BEGIN:VCALENDAR
VERSION:2.0
PRODID:-//hacksw/handcal//NONSGML v1.0//EN
BEGIN:VEVENT
UID:80403461fb4f89f3e141135e0a5afd9b
DTSTAMP:20260420T181159Z

DTSTART:20170519T110000
DTEND:20170519T110000
SUMMARY:ΕΚΔΗΛΩΣΗ ΜΝΗΜΗΣ ΓΕΝΟΚΤΟΝΙΑΣ ΤΩΝ ΕΛΛΗΝΩΝ ΤΟΥ ΠΟΝΤΟΥ
DESCRIPTION: ΕΚΔΗΛΩΣΗ ΜΝΗΜΗΣ ΓΕΝΟΚΤΟΝΙΑΣ ΤΩΝ ΕΛΛΗΝΩΝ ΤΟΥ ΠΟΝΤΟΥ

Ο Δήμος Ηλιούπολης σας προσκαλεί στην εκδήλωση μνήμης για τη Γενοκτονία του Ποντιακού Ελληνισμού

στο μνημείο των Ποντίων (Μαρ. Αντύπα & Τζουμαγιάς) την Παρασκευή 19 Μαΐου 2017 και ώρα 11:00 π.μ.


Ο Δήμαρχος Ηλιούπολης
Βασίλης Βαλασόπουλος
LOCATION:
END:VEVENT

END:VCALENDAR
