BEGIN:VCALENDAR
VERSION:2.0
PRODID:-//hacksw/handcal//NONSGML v1.0//EN
BEGIN:VEVENT
UID:89a406edb8432b8c163ed270b526e55e
DTSTAMP:20260421T022517Z

DTSTART:20170610T203000
DTEND:20170610T203000
SUMMARY:"Χορεύοντας στους ρυθμούς των δεκαετιών 1940, ΄50 &΄60" - Συνεργασίες Πόλης
DESCRIPTION:ΠΡΟΣΚΛΗΣΗ

Οι "Συνεργασίες Πόλης" σας προσκαλούν στο μεγάλο Μουσικοχορευτικό πολυθέαμα Αλληλεγγύης και Αγάπης που διοργανώνουν με θέμα : "Χορεύοντας στους ρυθμούς των δεκαετιών 1940, ΄50 & ΄60, με σκοπό τη συγκέντρωση τροφίμων για τις άπορες οικογένειες της Ηλιούπολης. Η εκδήλωση είναι μία μουσικοχορευτική ιστορική αναδρομή στο διεθνές πεντάγραμμo με σταθμούς τα μεγάλα διεθνή ιστορικά γεγονότα που σημάδεψαν τις δεκαετίες αυτές.

Χορεύουν οι "ATHENS SWING CATS"
Μουσική οι "Ilias and the Notorious Troupe"

Tην εκδήλωση παρουσιάζουν οι Δημοσιογράφοι :
Μαρίνα Δεμερτιζιάν και Μάχη Νικολάρα

Στο Δημοτικό Θέατρο της Ηλιούπολης "Δημήτρης Κιντής"
Σάββατο 10 Ιουνίου 2017 - Ωρα 8.30

ΕΝΩΣΗ ΚΑΛΛΙΤΕΧΝΩΝ & ΛΟΓΟΤΕΧΝΩΝ ΗΛΙΟΥΠΟΛΗΣ
ΚΙΝΗΜΑΤΟΓΡΑΦΙΚΗ ΛΕΣΧΗ ΗΛΙΟΥΠΟΛΗΣ
ΠΕΡΙΒΑΛΛΟΝΤΙΝΟΣ ΠΟΛΙΤΙΣΤΙΚΟΣ ΟΜΙΛΟΣ ΑΤΤΙΚΗΣ
Π.Ο.Α.Ε.Α (Παράρτημα Ηλιούπολης)
ΠΟΛΙΤΙΣΤΙΚΟΣ Μ/Φ ΟΜΙΛΟΣ Ο "ΠΑΝ"
ΡΟΤΑΡΙΑΝΟΣ ΟΜΙΛΟΣ ΗΛΙΟΥΠΟΛΗΣ
ΣΥΛΛΟΓΟΣ ΚΕΡΚΥΡΑΙΩΝ ΗΛΙΟΥΠΟΛΗΣ "ΟΙ ΦΑΙΑΚΕΣ"
ΣΩΜΑΤΕΙΟ ΚΥΡΙΩΝ ΗΛΙΟΥΠΟΛΗΣ "Η ΠΡΟΟΔΟΣ"
ΙlioupolisOnline ENHMΕΡΩΤΙΚΗ ΚΑΙ ΠΟΛΙΤΙΣΜΙΚΗ ΑΜΚΕ
LOCATION:&, Gardiki ke Smolika, Ilioupoli 163 45, Ελλάδα
END:VEVENT

END:VCALENDAR
