BEGIN:VCALENDAR
VERSION:2.0
PRODID:-//hacksw/handcal//NONSGML v1.0//EN
BEGIN:VEVENT
UID:9f60e156ff627074b5851adc1460d1ad
DTSTAMP:20260420T211304Z

DTSTART:20170519T210000
DTEND:20170519T210000
SUMMARY:"Ήταν όλοι τους παιδιά μου" - Θεατρική Ομάδα Ηλιούπολης
DESCRIPTION:Η ΘΕΑΤΡΙΚΗ ΟΜΑΔΑ ΗΛΙΟΥΠΟΛΗΣ

παρουσιάζει
 το έργο του Άρθουρ Μίλλερ

"Ήταν όλοι τους παιδιά μου"
σε σκηνοθεσία του Γιώργου Σίσκου

Στο θέατρο του Δημαρχιακού Μεγάρου
Σοφ. Βενιζέλου 114 & Κουντουριώτου

ΠΑΡΑΣΤΑΣΕΙΣ  :
19,20,21 & 26,27,28 Μαϊου 2017, Ωρα 21.00

Εϊσοδος Ελεύθερη

LOCATION:
END:VEVENT

END:VCALENDAR
