BEGIN:VCALENDAR
VERSION:2.0
PRODID:-//hacksw/handcal//NONSGML v1.0//EN
BEGIN:VEVENT
UID:06f714a6f1981830cc3bfbfbb939c19a
DTSTAMP:20260420T180952Z

DTSTART:20170511T190000
DTEND:20170511T190000
SUMMARY:Τα κλειδιά της μακροζωίας
DESCRIPTION:Ομιλία : "Τα κλειδιά της μακροζωίας"

Ομιλητές :
Θεόδωρος Ντολάντζας
Ιατρός, Τ. Δ/ντής Νοσοκομείου Παίδων Α. Σοφία, Συγγραφέας, Ερευνητής, Καλλιτέχνης

Στέλιος Κολομβούνης
Φυσικοθεραπευτής, Πτυχιούχος του European Scholl of Physiotherapy, Hogoschool van Amesterdam, Ολλανδία

Συντονίστρια : Εύα Ντελιδάκη, Δημοσιογράφος Υγείας, Συγγραφέας

Συμμετέχουν οι σύλλογοι :
Αρκάδων, Κρητών, Λευκαδιτών, Θεσσαλών

LOCATION:
END:VEVENT

END:VCALENDAR
