BEGIN:VCALENDAR
VERSION:2.0
PRODID:-//hacksw/handcal//NONSGML v1.0//EN
BEGIN:VEVENT
UID:58dc804c6a332b7499e7b2fd2bedfb14
DTSTAMP:20260421T021509Z

DTSTART:20170509T193000
DTEND:20170509T193000
SUMMARY:Βράβευση Αθλητών και Ομάδων της Πόλης μας
DESCRIPTION:Ο Δήμος Ηλιούπολης και ο Π.Α.Ο.Δ.ΗΛ. θα τιμήσουν τους διακριθέντες αθλητές και ομάδες της Πόλης μας,
σε μια εκδήλωση που θα πραγματοποιηθεί στο Θέατρο του Δημαρχιακού Μεγάρου, την Τρίτη 9 Μαΐου 2017 και ώρα 19.30.

Θα βραβευθούν αθλητές και ομάδες που έχουν κατακτήσει :

Διακρίσεις και συμμετοχή στους Ολυμπιακούς και Παραολυμπιακούς Αγώνες του Ρίο
1η έως 8η Παγκόσμια νίκη
1η έως 6η Πανευρωπαϊκή νίκη
1η έως 3η Πανελλήνια νίκη
Άνοδο ομάδων σε μεγαλύτερη κατηγορία
Συμμετοχή ομάδων σε τελικές φάσεις Πανελληνίων Πρωταθλημάτων
Αθλητές που συμμετέχουν σε Εθνικές Ομάδες.

Επιπλέον θα τιμηθούν συμπολίτες μας από το χώρο της αθλητικής δημοσιογραφίας και διαιτησίας.
LOCATION:Βότση 1, Αγρίνιο 301 31, Ελλάδα
END:VEVENT

END:VCALENDAR
