BEGIN:VCALENDAR
VERSION:2.0
PRODID:-//hacksw/handcal//NONSGML v1.0//EN
BEGIN:VEVENT
UID:68cc5d4dfc53fcf7bdbe5b85ae8342ec
DTSTAMP:20260421T021554Z

DTSTART:20170504T183000
DTEND:20170504T183000
SUMMARY:2ο Δημοτικό Σχολείο - Εγκαίνια Σχολικής Βιβλιοθήκης
DESCRIPTION:2ο Δημοτικό Σχολείο Ηλιούπολης

ΠΡΟΣΚΛΗΣΗ – ΚΑΛΕΣΜΑ

ΣΧΟΛΙΚΗ ΒΙΒΛΙΟΘΗΚΗ «Γιάννης Αλαχούζος»

Η Σχολική κοινότητα του σχολείου μας αποφάσισε ομόφωνα τη δημιουργία σύγχρονης σχολικής βιβλιοθήκης. Μια βιβλιοθήκη που θα είναι προσβάσιμη, σύγχρονη, πλήρως ανακαινισμένη και κυρίως ελκυστική στους μαθητές.
Ισχυρό κίνητρο αλλά και ελάχιστη υποχρέωση αποτέλεσε για μας η απώλεια του δικού μας Γιάννη. Ο μικρός μας μαθητής παρακίνησε όλη τη σχολική κοινότητα, μας ευαισθητοποίησε και μας κινητοποίησε θετικά.
Σήμερα βρισκόμαστε στην ευχάριστη θέση να σας προσκαλέσουμε στα εγκαίνια της βιβλιοθήκης την Πέμπτη 4 Μαΐου και ώρα 18:30 στην αίθουσα εκδηλώσεων του σχολείου μας.
Η παρουσία σας είναι ξεχωριστή χαρά για το σχολείο μας και ιδιαίτερη τιμή στο δικό μας Γιάννη Αλαχούζο.
Σας περιμένουμε.

Ο Διευθυντής				    Ο Σύλλογος Διδασκόντων
Πανταζόπουλος Δημήτριος	    O Σύλλογος Γονέων και Κηδεμόνων

LOCATION:Χαλκοκονδύλη, Ηλιούπολη 163 46, Ελλάδα
END:VEVENT

END:VCALENDAR
