BEGIN:VCALENDAR
VERSION:2.0
PRODID:-//hacksw/handcal//NONSGML v1.0//EN
BEGIN:VEVENT
UID:4a8eb47c6c284b55ea9ef3d80c09c85d
DTSTAMP:20260420T180828Z

DTSTART:20170503T190000
DTEND:20170503T190000
SUMMARY:Διαχείριση Στερεών Αποβλήτων "Πέρασμα στη Νέα Εποχή" εκδήλωση της ΗΛΙΟΥ-πόλις
DESCRIPTION:Η Δημοτική Κίνηση ΗΛΙΟΥ-πόλις, ανθρώπινη πόλη και ο επικεφαλής της Χ. ΚΟΚΟΤΙΝΗΣ σας προσκαλούν σε εκδήλωση συζήτηση, με θέμα :

ΔΙΑΧΕΙΡΙΣΗ ΣΤΕΡΕΩΝ ΑΠΟΒΛΗΤΩΝ "ΠΕΡΑΣΜΑ ΣΤΗ ΝΕΑ ΕΠΟΧΗ"

Τετάρτη 3 Μαϊου, 7.00 μμ 
στο Αλσος Δ. Κιντής

Ομιλητές :
Α.ΜΠΙΖΑ Αντιπρόεδρος ΕΔΣΝΑ (Ειδικός Διαβαθμιτικός Σύνδεσμος Ν Αττικής)
Χ.ΜΠΙΛΙΝΗΣ Μέλος Δ.Σ. ΕΟΝ (Ελληνικός Οργανισμός Ανακύκλωσης)
LOCATION:
END:VEVENT

END:VCALENDAR
