BEGIN:VCALENDAR
VERSION:2.0
PRODID:-//hacksw/handcal//NONSGML v1.0//EN
BEGIN:VEVENT
UID:ebbbe3c6034cdd161ae716a95025f4bc
DTSTAMP:20260420T181241Z

DTSTART:20170504T190000
DTEND:20170504T210000
SUMMARY:Ο Μανώλης Γλέζος στο Ανοικτό Πανεπιστήμιο της Πόλη μας
DESCRIPTION:Ο Δήμος Ηλιούπολης, στα πλαίσια της λειτουργίας του Δημοτικού Ανοιχτού Πανεπιστημίου,

έχει την τιμή να φιλοξενήσει την ιστορική προσωπικότητα της χώρας μας, αγωνιστή της εθνικής αντίστασης, κ. Μανώλη Γλέζο.

Ο κ. Γλέζος, σε μία διάλεξη, θα καταθέσει την προσωπική μνήμη και την ιστορική γνώση του, φωτίζοντας πτυχές της νεότερης ιστορίας του τόπου μας, με έμφαση στην κρίσιμη περίοδο του εμφυλίου πολέμου και της εθνικής αντίστασης.

Θέμα: "Εθνικός διχασμός, εμφύλιος πόλεμος, Αντίσταση"

Πέμπτη, 4 Μαΐου 2017

Ώρα: 7:00 - 9:00 μ.μ.

Θέατρο Δημαρχιακού Μεγάρου Ηλιούπολης

Είσοδος ελεύθερη

 Γραφείο Τύπου
Δήμου Ηλιούπολης
LOCATION:
END:VEVENT

END:VCALENDAR
