BEGIN:VCALENDAR
VERSION:2.0
PRODID:-//hacksw/handcal//NONSGML v1.0//EN
BEGIN:VEVENT
UID:71b8047993a8290cc44ba59b48a82433
DTSTAMP:20260422T082516Z

DTSTART:20170503T193000
DTEND:20170503T193000
SUMMARY:Παρουσίαση Βιβλίου του Γιώργου Καραμπελλιά
DESCRIPTION:To Κίνημα Άρδην σας προσκαλεί την Τετάρτη 3 Μαΐου 2017, ώρα 19:30, στην παρουσίαση του βιβλίου του Γιώργου Καραμπελιά: Πέραν της Αριστεράς και της Δεξιάς, Η Υπέρβαση

Συζητούν για το βιβλίο: Λάμπρος Καλαρρύτης, δημοσιογράφος

Γιώργος Καραμπελιάς, συγγραφέας

Βαγγέλης Πισσίας, Δρ Διεθνών Οικονομικών Σχέσεων

συντονιστής: Πασχάλης Καραθανασόπουλος

Θα χαιρετίσει ο Βασίλης Βαλασόπουλος, Δήμαρχος Ηλιούπολης

Μουσείο Εθνικής Αντίστασης, Σ. Βενιζέλου 146 & Μ. Αντύπα, Ηλιούπολη

 
LOCATION:
END:VEVENT

END:VCALENDAR
