BEGIN:VCALENDAR
VERSION:2.0
PRODID:-//hacksw/handcal//NONSGML v1.0//EN
BEGIN:VEVENT
UID:58f166e489f8c4c3e9fccc322c714f6b
DTSTAMP:20260422T082624Z

DTSTART:20170428T190000
DTEND:20170428T190000
SUMMARY:ΚΑΡΚΙΝΟΣ ΤΟΥ ΠΑΧΕΟΣ ΕΝΤΕΡΟΥ  - ΣΥΝΗΘΕΣΤΕΡΕΣ ΑΛΛΕΣ ΠΑΘΗΣΕΙΣ ΤΟΥ ΠΑΧΕΟΣ ΕΝΤΕΡΟΥ
DESCRIPTION: ΙΑΤΡΙΚΗ ΟΜΙΛΙΑ ΓΙΑ ΤΙΣ ΠΑΘΗΣΕΙΣ ΤΟΥ ΠΑΧΕΟΣ ΕΝΤΕΡΟΥ


ΙΑΤΡΙΚΗ ΟΜΙΛΙΑ ΜΕ ΘΕΜΑΤΑ:

- ΚΑΡΚΙΝΟΣ ΤΟΥ ΠΑΧΕΟΣ ΕΝΤΕΡΟΥ

- ΣΥΝΗΘΕΣΤΕΡΕΣ ΑΛΛΕΣ ΠΑΘΗΣΕΙΣ ΤΟΥ ΠΑΧΕΟΣ ΕΝΤΕΡΟΥ

 Αγαπητοί Συνδημότες,

Το ΚΕΠ Υγείας του Δήμου μας, σε συνεργασία με το ΕΔΔΥΠΠΥ, διοργανώνει ομιλία για τον Καρκίνο του Παχέος εντέρου την Παρασκευή 28/4/17 ώρα 19:00 στην αίθουσα εκδηλώσεων της ΧΕΝ ΑΘΗΝΑ, Μαρίνου Αντύπα 81.

Ομιλητής θα είναι ο ιατρός Γαστρεντερολόγος κ. Μυρωνίδης Λεωνίδας.

Θα γίνουν εγγραφές για κλινική εξέταση των ενδιαφερόμενων καθώς και παραπομπές για εργαστηριακό έλεγχο.

Θερμή παράκληση οι ενδιαφερόμενοι για εξετάσεις να έχουν μαζί τους το ΑΜΚΑ.

Για πληροφορίες και ραντεβού τηλεφωνείστε στο 210 - 9968868.

Υπεύθυνη η κα Θεοδώρα Αυλωνίτη.

 

ΧΡ.ΓΙΑΝΝΑΚΗΣ

ΔΗΜ.ΣΥΜΒΟΥΛΟΣ

ΕΝΤΕΤΑΛΜΕΝΟΣ ΣΥΜΒΟΥΛΟΣ ΔΗΜΑΡΧΟΥ ΓΙΑ ΤΟ ΚΕΠ ΥΓΕΙΑΣ


LOCATION:
END:VEVENT

END:VCALENDAR
