BEGIN:VCALENDAR
VERSION:2.0
PRODID:-//hacksw/handcal//NONSGML v1.0//EN
BEGIN:VEVENT
UID:3a36e83b3bf22f8b174888a17d854f9e
DTSTAMP:20260421T021820Z

DTSTART:20170407T211500
DTEND:20170407T211500
SUMMARY:AΛΛΗΛΕΓΓΥΟ ΘΕΑΤΡΟ ΗΛΙΟΥ-ΠΟΛΙΣ  Αλεξ. Παπαδιαμάντη "Χωρίς Στεφάνι"
DESCRIPTION:Ἐγεννήθην ἐν Σκιάθῳ, τῇ 4 Μαρτίου 1851. Ἐβγήκα ἀπὸ τὸ Ἑλληνικὸν Σχολεῖον εἰς τὰ 1863, ἀλλὰ μόνον τῷ 1867 ἐστάλην εἰς τὸ Γυμνάσιον Χαλκίδος, ὅπου ἤκουσα τὴν Α΄ καὶ Β΄ τάξιν. Τὴν Γ΄ ἐμαθήτευσα εἰς Πειραιᾶ, εἴτα διέκοψα τὰς σπουδάς μου καὶ ἔμεινα εἰς τὴν πατρίδα. Κατὰ Ἰούλιον τοῦ 1872 ὑπῆγα εἰς τὸ Ἅγιον Ὄρος χάριν προσκυνήσεως, ὅπου ἔμεινα ὀλίγους μῆνας. Τῷ 1873 ἦλθα εἰς Ἀθήνας καὶ ἐφοίτησα εἰς τὴν Δ΄ τοῦ Βαρβακείου. Τῷ 1874 ἐνεγράφην εἰς τὴν Φιλοσοφικὴν Σχολήν, ὅπου ἤκουα κατ' ἐκλογὴν ὀλίγα μαθήματα φιλολογικά, κατ' ἰδίαν δὲ ἠσχολούμην εἰς τὰ ξένας γλώσσας. Μικρὸς ἐζωγράφιζα Ἁγίους, εἶτα ἔγραφα στίχους, καὶ ἐδοκίμαζα νὰ συντάξω κωμῳδίας. Τῷ 1868 ἐπεχείρησα νὰ γράψω μυθιστόρημα. Τῷ 1879 ἐδημοσιεύθη Ἡ Μετανάστις ἔργον μου εἰς τὸ περιοδικὸν Σωτῆρα. Τῷ 1882 ἐδημοσιεύθη Οἱ ἔμποροι τῶν Ἐθνῶν εἰς τὸ Μὴ χάνεσαι. Ἀργότερα ἔγραψα περὶ τὰ ἑκατὸν διηγήματα, δημοσιευθέντα εἰς διάφορα περιοδικὰ καὶ ἐφημερίδας.

    ΑΛΕΞΑΝΔΡΟΣ ΠΑΠΑΔΙΑΜΑΝΤΗΣ


ΑΛΕΞΑΝΔΡΟΥ ΠΑΠΑΔΙΑΜΑΝΤΗ -ΧΩΡΙΣ ΣΤΕΦΑΝΙ

           ΘΕΑΤΡΙΚΌ ΑΝΑΛΌΓΙΟ

ΑΛΛΗΛΕΓΓΥΟ ΘΕΑΤΡΟ ΗΛΙΟΥ-πολις

ΣΚΗΝΟΘΕΣΙΑ: ΒΑΓΓΕΛΗΣ ΒΑΡΟΤΣΑΚΗΣ
ΠΑΡΑΣΤΑΣΕΙΣ 7, 8  & 11 ΑΠΡΙΛΙΟΥ
ΗΡΩΣ ΚΩΝΣΤΑΝΤΟΠΟΥΛΟΥ & ΗΡΑΚΛΕΙΤΟΥ 1 - ΗΛΙΟΥΠΟΛΗ

ΤΗΛ. ΚΡΑΤΗΣΕΩΝ: 6937032345
ΕΙΣΟΔΟΣ ΕΛΕΥΘΕΡΗ ΜΕ ΕΥΓΕΝΙΚΗ ΣΥΝΕΙΣΦΟΡΑ ΤΡΟΦΙΜΩΝ
ΓΙΑ ΤΟ ΔΙΚΤΥΟ ΑΛΛΗΛΕΓΓΥΗΣ ΗΛΙΟΥ-πόλις
LOCATION:
END:VEVENT

END:VCALENDAR
