BEGIN:VCALENDAR
VERSION:2.0
PRODID:-//hacksw/handcal//NONSGML v1.0//EN
BEGIN:VEVENT
UID:c7577f869b9bbdf3899dfb460e52a970
DTSTAMP:20260421T021541Z

DTSTART:20170401T100000
DTEND:20170402T200000
SUMMARY:Πασχαλινό Bazaar Ζωοφιλικής Ενωσης Ηλιούπολης
DESCRIPTION:ΠΡΟΣΚΛΗΣΗ

Πασχαλινό Bazaar Ζωοφιλικής Ενωσης Ηλιούπολης

1 -2 Απριλίου 2017

Ωρες : 10.00 - 20.00

1ο Γυμνάσιο - Λύκειο Ηλιούπολης
Γρηγορίου Αυξεντίου 2

LOCATION:Γρ. Αυξεντίου 2, Ηλιούπολη 163 43, Ελλάδα
END:VEVENT

END:VCALENDAR
