BEGIN:VCALENDAR
VERSION:2.0
PRODID:-//hacksw/handcal//NONSGML v1.0//EN
BEGIN:VEVENT
UID:d3513f0025095f6d7f07356b09acff6d
DTSTAMP:20260421T021735Z

DTSTART:20170401T110000
DTEND:20170401T193000
SUMMARY:8ο & 17ο Δημ. Σχολεία - Εκθεση και παρουσιάσεις βιβλίων
DESCRIPTION:ΠΡΟΣΚΛΗΣΗ

Στο πλαίσιο της Παγκόσμιας Ημέρας Παιδικού Βιβλίου, σας προσκαλούμε να μας  τιμήσετε  με την παρουσία σας  στην Εκθεση Βιβλίου που διοργανώνουμε σε συνεργασία με το βιβλιοπωλείο «ΑΠΡΟΒΛΕΠΤΟ» στο σχολείο μας, το Σάββατο 1 Απριλίου 2017 και ώρες 11.00 – 19.30 μμ.

Θα παρουσιάσουν τα βιβλία τους οι συγγραφείς :
Παρασκευάς Καρασούλος (11.00)
και
Ζωή Βαλάση (18.00).

Σας περιμένουμε 
Σύλλογοι Γονέων & Κηδεμόνων 8ου & 17ου Δημοτικών  Σχολείων  

LOCATION:
END:VEVENT

END:VCALENDAR
