BEGIN:VCALENDAR
VERSION:2.0
PRODID:-//hacksw/handcal//NONSGML v1.0//EN
BEGIN:VEVENT
UID:8bb85a3c5801b5c1bd2118d8347177be
DTSTAMP:20260420T194550Z

DTSTART:20170405T190000
DTEND:20170405T190000
SUMMARY:Πολιτική εκδήλωση με τον Υπουργό Εσωτερικών ΠΑΝΟ ΣΚΟΥΡΛΕΤΗ
DESCRIPTION:Η Ο.Μ. ΣΥΡΙΖΑ Ηλιούπολης,
σας προσκαλεί στην εκδήλωση
με θέμα :

Νέες προκλήσεις
για την Ανάπτυξη, την Αλληλεγύη, τη Δημοκρατία

με ομιλητή τον Υπουργό Εσωτερικών
Πάνο Σκουρλέτη

Τετάρτη 5 Απριλίου 2017
Ωρα 7.00 μμ

Θέατρο Δημαρχιακού Μεγάρου Ηλιούπολης
Σοφ. Βενιζέλου & Κουντουριώτη

LOCATION:
END:VEVENT

END:VCALENDAR
