BEGIN:VCALENDAR
VERSION:2.0
PRODID:-//hacksw/handcal//NONSGML v1.0//EN
BEGIN:VEVENT
UID:799f0c655ee29f8b2487cbe82b16e1e7
DTSTAMP:20260420T174429Z

DTSTART:20170402T200000
DTEND:20170402T200000
SUMMARY:ΦΕΣΤΙΒΑΛ ΦΑΝΤΑΣΤΙΚΟΥ ΚΙΝΗΜΑΤΟΓΡΑΦΟΥ 2017
DESCRIPTION:
LOCATION:
END:VEVENT

END:VCALENDAR
