BEGIN:VCALENDAR
VERSION:2.0
PRODID:-//hacksw/handcal//NONSGML v1.0//EN
BEGIN:VEVENT
UID:6f606b7b3e160cbfc37b595faff9b9d7
DTSTAMP:20260421T021542Z

DTSTART:20170331T203000
DTEND:20170331T223000
SUMMARY:Η "καρό βαλίτσα" ταξιδεύει στην Ηλιούπολη
DESCRIPTION:
Το βιβλιοπωλείο Απρόβλεπτο και οι εκδόσεις των συναδέλφων σας προσκαλούν στην παρουσίαση του βιβλίου
 της Μαρίας Ουζούνη "Η καρό βαλίτσα" την Παρασκευή 31 Μαρτίου στις 8:30 μ.μ.

Μια δολοφονία κατά τη διάρκεια μιας διουσιακής γιορτής. Οι πληγές του Εμφυλίου και οι πίκρες της μετανάστευσης. 
Ελλάδα και Βραζιλία.

Το βιβλίο θα παρουσιάσουν ο Τάσος Κωστόπουλος (δημοσιογράφος, συγγραφέας) και η συγγραφέας.

Αποσπάσματα θα διαβάσει η Πόλη Τσιγκίλη (εκπαιδευτικός)


Βιβλιοπωλείο Απρόβλεπτο, Ρήγα Φεραίου 25, Ηλιούπολη, τηλ. 2109940110
LOCATION:Ρήγα Φεραίου 25, Ηλιούπολη 163 43, Ελλάδα
END:VEVENT

END:VCALENDAR
