BEGIN:VCALENDAR
VERSION:2.0
PRODID:-//hacksw/handcal//NONSGML v1.0//EN
BEGIN:VEVENT
UID:0f7dbfde3bd11ab875f7552b0e08de07
DTSTAMP:20260420T180312Z

DTSTART:20170327T190000
DTEND:20170327T190000
SUMMARY:ΟΠΣΑ: Ο πολιτισμός,  τα ήθη και τα έθιμα, η λαογραφία και η παράδοση. Ο ρόλος της Αυτοδιοίκησης
DESCRIPTION:ΟΜΙΛΟΣ ΠΡΟΕΤΟΙΜΑΣΙΑΣ ΣΤΕΛΕΧΩΝ ΑΥΤΟΔΙΟΙΚΗΣΗΣ
Σκρα 14-16 Ηλιούπολη - Τ.Κ. 163 46 - Τηλ.: 210 9922.301 
 Fax: 210 9733.813
e-mail: omilosopsa@gmail.com

Π Ρ Ο Σ Κ Λ Η Σ Η

      Έχουμε την τιμή να σας προσκαλέσουμε την Δευτέρα  27/03/2017 ώρα 19.00, στην       εκδήλωση   του Ομίλου μας  , που πραγματοποιείται σε συνεργασία με τον Λαογραφικό Πολιτιστικό Σύλλογο «ΛΑΟΠΟΛΙΣ» με θεματική ενότητα:  
                         
      «Ο πολιτισμός,  τα ήθη και τα έθιμα, η λαογραφία και η παράδοση, ως  καταλύτες  επίδρασης στην διαμόρφωση της προσωπικότητας των νέων και στην διατήρηση της ταυτότητας του Κράτους – Έθνους. 
Ο ρόλος της Αυτοδιοίκησης»

        Θα παρουσιαστούν δύο εισηγήσεις:

1.	«Πολιτισμός και  Λαογραφία, ως παράγοντες διατήρησης της ταυτότητας του Κράτους - Έθνους»
Εισηγητής: κ. Βάιος Καμινιώτης, Συγγραφέας
 Διδάκτωρ Λαογραφίας τμ. Φιλολογίας του Εθνικού και Καποδιστριακού Παν/μιου Αθηνών (ΕΚΠΑ), 
2.	« Η Παράδοση, τα Ήθη και τα  Εθιμα,  ως καταλύτες επίδρασης στην διαμόρφωση  της προσωπικότητας των νέων »
                        Εισηγήτρια : κ. Μαρία Παρδάλη,  Συγγραφέας  Διδάκτωρ τμ. 
                        Εκπαίδευσης και Αγωγής Πανεπιστημίου Αθηνών (ΕΚΠΑ) 
          Ολιγόλεπτες παρεμβάσεις θα κάνουν  ο κ. Θεόδωρος Γεωργάκης, Δικηγόρος Παρ’ Αρείω Πάγω , Διδάκτωρ Παντείου Πανεπιστημίου και  π. Δήμαρχος Ηλιούπολης και ο κ. Γιάννης Γαντζίας, Καθηγητής  Φυσικής Αγωγής με ειδικότητα στους Παραδοσιακούς χορούς, Πρόεδρος του Συλλόγου «ΛΑΟΠΟΛΙΣ»

        Η εκδήλωση  θα πραγματοποιηθεί στην αίθουσα εκδηλώσεων του Μουσείου Εθνικής Αντίστασης Ηλιούπολης (οδός  Σ. Βενιζέλου & Μαρ. Αντύπα)

          Συντονιστής: Ο   κ.  Θεόδωρος  Γεωργάκης,  Πρόεδρος  του    ΟΠΣΑ     
      Παρουσιάστρια: Η κ. Άννα Παπαϊακώβου, Δικηγόρος  και Ιδρυτικό Μέλος ΟΠΣΑ
          	                               
Η παρουσία σας θα  μας δώσει ιδιαίτερη χαρά.                                   ΓΙΑ ΤΟΝ ΟΜΙΛΟ
Η είσοδος είναι ελεύθερη                                                                    Ο ΠΡΟΕΔΡΟΣ
                                                                                            ΘΕΟΔΩΡΟΣ ΓΕΩΡΓΑΚΗΣ

LOCATION:
END:VEVENT

END:VCALENDAR
