BEGIN:VCALENDAR
VERSION:2.0
PRODID:-//hacksw/handcal//NONSGML v1.0//EN
BEGIN:VEVENT
UID:b3431565a1e37b53ec40e2dc3b244408
DTSTAMP:20260420T173831Z

DTSTART:20170319T200000
DTEND:20170319T200000
SUMMARY:Προβολή της ταινίας  FINAL CUT - LADIES AND GENTLEMEN
DESCRIPTION:H KIΝΗΜΑΤΟΓΡΑΦΙΚΗ ΛΕΣΧΗ ΗΛΙΟΥΠΟΛΗΣ σας προσκαλεί 

την ΚΥΡΙΑΚΗ  19/03/2017 στην προβολή της ταινίας

FINAL CUT - LADIES AND GENTLEMEN / FINAL CUT – HÖLGYEIM ÉS URAIM
του Γκιόργκι Πάλφι (ΟΥΓΓΑΡΙΑ, 2012, έγχρωμη και ασπρόμαυρη, 84΄)

Απαράμιλλο, δεξιοτεχνικό κολάζ, δημιουργημένο εξ ολοκλήρου από αποσπάσματα 450 και πλέον ταινιών από ολόκληρο τον κόσμο, ενωμένων οργανικά σε μια ενιαία αφήγηση. 

Θα ακολουθήσει συζήτηση με εισηγητή τον Ανδρέα Τύρο (κριτικό κινηματογράφου, Πρόεδρο της Πανελλήνιας Ένωσης Κριτικών Κινηματογράφου).




ΣΤΟ ΜΟΥΣΕΙΟ ΕΘΝΙΚΗΣ ΑΝΤΙΣΤΑΣΗΣ
(Μαρ. Αντύπα 134 και Σοφ. Βενιζέλου 100, Ηλιούπολη
Λεωφορείο:
237 Άνω Ηλιούπολη από σταθμό Δάφνη του Μετρό στη στάση Πλατεία Εθνικής Αντίστασης
Τηλ.: 2109941199, 2109914732, 6945405825, E-mail: info@klh.gr,
Ιστοσελίδα: www.klh.gr)  
LOCATION:
END:VEVENT

END:VCALENDAR
