BEGIN:VCALENDAR
VERSION:2.0
PRODID:-//hacksw/handcal//NONSGML v1.0//EN
BEGIN:VEVENT
UID:bd71b7bcd4bf4f0630f31572aba5cd3b
DTSTAMP:20260421T021552Z

DTSTART:20170322T180000
DTEND:20170322T180000
SUMMARY:Λογοτεχνία και Μουσική - Λέσχη Ανάγνωσης Ηλιούπολης
DESCRIPTION:                         Η ΛΕΣΧΗ ΑΝΑΓΝΩΣΗΣ ΗΛΙΟΥΠΟΛΗΣ,

 στα πλαίσια της σειράς ομιλιών-συζητήσεων που διοργανώνει   αυτή τη χρονιά, γιορτάζοντας τα δέκα χρόνια λειτουργίας της,
              σας προσκαλεί να παρακολουθήσετε το θέμα:

                              ΛΟΓΟΤΕΧΝΙΑ  ΚΑΙ  ΜΟΥΣΙΚΗ


              την Τετάρτη 22 Μαρτίου 2017, ώρα 6μμ,        

            Παρουσιάζει η Έφη Μαρκουλάκη, συνθέτρια.

                                    Είσοδος  ελεύθερη 

                                         Media Lab - 
                ΠΟΛΙΤΙΣΤΙΚΟ ΚΕΝΤΡΟ  ΔΗΜΟΥ ΗΛΙΟΥΠΟΛΗΣ,
		          Νικομάχου 18, Κ.Ηλιούπολη

                 Η παρουσία σας θα μας δώσει ιδιαίτερη χαρά.
LOCATION:
END:VEVENT

END:VCALENDAR
