BEGIN:VCALENDAR
VERSION:2.0
PRODID:-//hacksw/handcal//NONSGML v1.0//EN
BEGIN:VEVENT
UID:db1b5ec97141e0d99cb276ceeb401fb5
DTSTAMP:20260421T022147Z

DTSTART:20170320T170000
DTEND:20170320T200000
SUMMARY:ΑΙΜΟΔΟΣΙΑ ΣΤΟ ΣΥΛΛΟΓΟ ΗΠΕΙΡΩΤΩΝ ΗΛΙΟΥΠΟΛΗΣ
DESCRIPTION:Oι ανάγκες για αίμα είναι πολλές. Έτσι καλούμε τους αιμοδότες φίλους μας, καθώς και όλους όσους θέλουν και μπορούν, να συμμετάσχουν στην εθελοντική αιμοδοσία του Συλλόγου μας.
Υπενθυμίζουμε ότι οι αιμοδότες θα πρέπει να έχουν μαζί τους την κάρτα αιμοδοσίας, την αστυνομική ταυτότητα και το Α.Μ.Κ.Α.

LOCATION:Λεωφ. Σοφοκλή Βενιζέλου 130, Ηλιούπολη 163 42, Ελλάδα
END:VEVENT

END:VCALENDAR
