BEGIN:VCALENDAR
VERSION:2.0
PRODID:-//hacksw/handcal//NONSGML v1.0//EN
BEGIN:VEVENT
UID:cc60dd0e91ba24d981d9e4823b17cf40
DTSTAMP:20260421T023530Z

DTSTART:20170315T200000
DTEND:20170315T200000
SUMMARY:Παρουσίαση του βιβλίου της Αντιγόνης Καμπέρου "ΤΟΥ ΝΟΥ ΚΛΩΘΟΓΥΡΙΣΜΑΤΑ"
DESCRIPTION:
Φίλοι & φίλες,

Συνεχίζοντας τις εκδηλώσεις του 4ου ΦΕΣΤΙΒΑΛ ΠΟΛΙΤΙΣΜΟΥ & ΑΛΛΗΛΕΓΓΥΗΣ
της Δημοτικής μας Κίνησης "ΗΛΙΟΥ-πόλις,ανθρώπινη πόλη",
την Τετάρτη 15 Μαρτίου και ώρα 8.00 μ.μ.,Ηρώς Κωνσταντοπούλου & Ηρακλείτου 1,
 θα γίνει η παρουσίαση του βιβλίου
της Αντιγόνης Καμπέρου "ΤΟΥ ΝΟΥ ΚΛΩΘΟΓΥΡΙΣΜΑΤΑ"

Οπως  σε όλες μας τις εκδήλώσεις, η είσοδος είναι ελεύθερη , με ευγενική συνεισφορά τροφίμων για το Δίκτυο Αλληλεγγύης ΗΛΙΟΥ-πόλις.

Η παρουσία σας θα είναι τιμή μας
LOCATION:
END:VEVENT

END:VCALENDAR
