BEGIN:VCALENDAR
VERSION:2.0
PRODID:-//hacksw/handcal//NONSGML v1.0//EN
BEGIN:VEVENT
UID:aa9215ed80681dbaf8148f61e3403ff4
DTSTAMP:20260420T180757Z

DTSTART:20170312T103000
DTEND:20170312T103000
SUMMARY:20ο Συνέδριο ΚΚΕ Συζήτηση - Σύσκεψη την Κυριακή 12 Μάρτη 2017
DESCRIPTION:Ανοιχτή σύσκεψη με θέμα, «Οι θέσεις της ΚΕ του ΚΚΕ για το 20ο Συνέδριο» διοργανώνουν οι ΚΟΒ Ηλιούπολης την Κυριακή 12 Μάρτη στις 10:οο πμ, στο Μουσείο Εθνικής Αντίστασης.

Στην σύσκεψη, θα παραβρεθεί και θα μιλήσει, ο Θανάσης Τζίμας μέλος της Κεντρικής Επιτροπής του ΚΚΕ
LOCATION:
END:VEVENT

END:VCALENDAR
