BEGIN:VCALENDAR
VERSION:2.0
PRODID:-//hacksw/handcal//NONSGML v1.0//EN
BEGIN:VEVENT
UID:2301036c58f978d3a4263c0b852eefb1
DTSTAMP:20260420T233202Z

DTSTART:20170305T000000
DTEND:20170409T000000
SUMMARY:4ο ΦΕΣΤΙΒΑΛ Πολιτισμού και Αλληλεγγύης - Πρόγραμμα εκδηλώσεων
DESCRIPTION:ΠΡΟΓΡΑΜΜΑ 4ου ΦΕΣΤΙΒΑΛ ΠΟΛΙΤΙΣΜΟΥ & ΑΛΛΗΛΕΓΓΥΗΣ
ΗΜΕΡΑ	ΗΜΕΡΟΜΗΝΙΑ	ΕΚΔΗΛΩΣΗ	ΤΟΠΟΣ	ΩΡΑ

Κυριακή	5-Μαρ	Αγνωστες Ιστορίες του κ. Τέννεσση Ουίλιαμς                                                                                              " ΑΛΛΗΛΕΓΓΥΟ ΘΕΑΤΡΟ ΗΛΙΟΥ-πολις " Σκηνοθ: Bαγγ.Βαροτσάκης - Δημ.Γκελερή	Ηρώς Κωνσταντοπούλου & Ηρακλείτου 1, ώρα	20.30

Κυριακή	5-Μαρ	Κινηματογραφική Προβολή "ΤΟ ΓΑΙΤΑΝΑΚΙ ΤΟΥ ΕΡΩΤΑ"     ΚΙΝΗΜΑΤΟΓΡΑΦΙΚΗ ΛΕΣΧΗ ΗΛΙΟΥΠΟΛΗΣ	Μουσείο Ε, ώρα	20.00

Τετάρτη	8-Μαρ	  "ΜΕ ΤΑ ΜΑΤΙΑ ΤΗΣ ΑΓΑΠΗΣ"                                                                                                                                Παρουσίαση βιβλίου του συγγραφέα Κων/νου Δέδε,	Ηρώς Κωνσταντοπούλου & Ηρακλείτου 1, ώρα 20.00

Παρασκευή 	10-Μαρ	Βραδιά Ποίησης "Ρευστοί καιροί - Ρέουσα ποίηση" ΠΟΛΗ /ΚΡΙΣΗ/ΑΛΛΗΛΕΓΓΥΗ  Ανθολόγηση :Γιούλη Βολανάκη	Ηρώς Κωνσταντοπούλου & Ηρακλείτου 1, ώρα 20.00	

Σάββατο	11-Μαρ	Ρεσιτάλ Κλασσικής Κιθάρας  - Σολίστ Γιώργος Αναγνωστόπουλος	Δημοτικό Ωδείο Ηλιούπολης,  Θ.Λουκίδου & Ηρώς Κωνσταντοπούλου, ώρα 20.00

Κυριακή	12-Μαρ	Αγνωστες Ιστορίες του κ. Τέννεσση Ουίλιαμς                                                                                              " ΑΛΛΗΛΕΓΓΥΟ ΘΕΑΤΡΟ ΗΛΙΟΥ-πολις " Σκηνοθ: Bαγγ.Βαροτσάκης - Δημ.Γκελερή	Ηρώς Κωνσταντοπούλου & Ηρακλείτου 1, ώρα 	20.30

Κυριακή	12-Μαρ	Μουσική παράσταση για την Αλληλεγγύη "συν Γυναιξί & Τέχνη"από το ΚΙΝΗΤΡΟΝ   Μουσική Επιμέλεια: Φωτεινή Σαββατιανού	Δημοτικό Θέατρο Ηλιούπολης	, ώρα 19.00

Τετάρτη	15-Μαρ	 "ΤΟΥ ΝΟΥ ΚΛΩΘΟΓΥΡΙΣΜΑΤΑ"                                                                                                          Παρουσίαση βιβλίου της συγγραφέως  Αντιγόνης Καμπέρου	Ηρώς Κωνσταντοπούλου & Ηρακλείτου 1, ώρα 20.00
	
Παρασκευή 	17-Μαρ	Μουσικοποιητική βραδιά "ΤΡΑΓΟΥΔΗΣΤΕ ΜΑΖΙ ΜΑΣ"  Μουσική Επιμέλεια :Γιώργος Θεοχαρόπουλος	Ηρώς Κωνσταντοπούλου & Ηρακλείτου 1, ώρα 20.00

Σάββατο	18-Μαρ	ΥΓΕΙΑ : ΜΠΟΡΕΙ ΝΑ ΕΙΝΑΙ ΕΜΠΟΡΕΥΜΑ?                                                                                                 Συζήτηση με τον   Γιατρό  ΑΛΕΚΟ ΑΡΔΑΒΑΝΗ 	Ηρώς Κωνσταντοπούλου & Ηρακλείτου 1, ώρα 20.00
				
Κυριακή	19-Μαρ	Αγνωστες Ιστορίες του κ. Τέννεσση Ουίλιαμς                                                                                              " ΑΛΛΗΛΕΓΓΥΟ ΘΕΑΤΡΟ ΗΛΙΟΥ-πολις " Σκηνοθ: Bαγγ.Βαροτσάκης - Δημ.Γκελερή	Ηρώς Κωνσταντοπούλου & Ηρακλείτου 1, ώρα	20.30

Τετάρτη	22-Μαρ	 "ΛΙΜΝΟΘΑΛΑΣΣΑ ΕΛΕΥΘΕΡΙΑΣ"     του συγγραφέα Φώτη Νεκταρίου Σαγώνα                                                                                        Παρουσίαση: Αννέτα Καββαδία Δημοσιογράφος-Βουλευτής	Ηρώς Κωνσταντοπούλου & Ηρακλείτου 1	, ώρα 20.00

Κυριακή	26-Μαρ	Αγνωστες Ιστορίες του κ. Τέννεσση Ουίλιαμς                                                                                              " ΑΛΛΗΛΕΓΓΥΟ ΘΕΑΤΡΟ ΗΛΙΟΥ-πολις " Σκηνοθ: Bαγγ.Βαροτσάκης - Δημ.Γκελερή	Ηρώς Κωνσταντοπούλου & Ηρακλείτου 1, ώρα	20.30

Κυριακή	26-Μαρ	Δημόσια συζήτηση για την πόλη,το περιβάλλον & τον πολιτισμό: ΠΕΡΙΦΕΡΕΙΑΚΗ ΛΕΩΦΟΡΟΣ ΥΜΗΤΤΟΥ-ΣΗΡΑΓΓΑ ΗΛΙΟΥΠΟΛΗΣ  Εισηγητής :Πάνος Τότσικας	Μουσείο Εθνικής Αντίστασης -Μαρίνου Αντύπα 134 & Λεωφ.Σοφ.Βενιζέλου 100, ώρα
18.30
 
Τετάρτη	29-Μαρ	"Διασκευή των Έργων της Αφηγηματικής Πεζογραφίας στον κινηματογράφο"  Θεωρητικές Προσεγγίσεις - Δημήτρης Καλαντίδης	Ηρώς Κωνσταντοπούλου & Ηρακλείτου 1, ώρα 20.00

Σάββατο	1-Απρ	Κινηματογραφική Προβολή " ΡΗΞΗ ΤΥΜΠΑΝΟΥ" από το   Εργαστήρι Δημιουργίας Ταινίας  Μυθοπλασίας της Κινηματογραφικής Λέσχης Ηλιούπολης	Ηρώς Κωνσταντοπούλου & Ηρακλείτου 1, ώρα 20.00

Κυριακή	2-Απρ	Μουσική εκδήλωση με το Μουσικό Σχήμα Εικαστικών Π.Ε.Λ.Τ.	Ηρώς Κωνσταντοπούλου & Ηρακλείτου 1, ώρα 20.00

Παρασκευή 	7-Απρ	Θεατρικό Αναλόγιο "ΧΩΡΙΣ ΣΤΕΦΑΝΙ" Αλέξ.Παπαδιαμάντη                                                                       " ΑΛΛΗΛΕΓΓΥΟ ΘΕΑΤΡΟ ΗΛΙΟΥ-πόλις" Σκηνοθ: Βαγγέλης Βαροτσάκης	Ηρώς Κωνσταντοπούλου & Ηρακλείτου 1, ώρα	21.15

Σάββατο	8-Απρ	Θεατρικό Αναλόγιο "ΧΩΡΙΣ ΣΤΕΦΑΝΙ" Αλέξ.Παπαδιαμάντη                                                                       " ΑΛΛΗΛΕΓΓΥΟ ΘΕΑΤΡΟ ΗΛΙΟΥ-πόλις" Σκηνοθ: Βαγγέλης Βαροτσάκης	Ηρώς Κωνσταντοπούλου & Ηρακλείτου 1, ώρα	21.15

13/3 - 17/3	Εκθεση Φωτογραφίας από μέλη της  ΦΩΤΟΓΡΑΦΙKHΣ ΛΕΣΧΗΣ  ΗΛΙΟΥΠΟΛΗΣ	Ηρώς Κωνσταντοπούλου            & Ηρακλείτου 1, ώρα	19.00 -  22.00
                                            
27/3 - 5/4	Εκθεση Εικαστικών από την ΠΑΝΕΛΛΗΝΙΑ ΕΝΩΣΗ ΛΟΓΟΥ & ΤΕΧΝΗΣ	Ηρώς Κωνσταντοπούλου  & Ηρακλείτου 1, ώρα	19.00-22.00

Κάθε Σάββατο & Κυριακή 5/3 - 8/4 Θεατρική παράσταση "ΑΥΤΟΚΡΑΤΩΡ ΑΔΡΙΑΝΟΣ"  με τον ΧΡΗΣΤΟ ΛΙΑΚΟΠΟΥΛΟ                          (Τηλ. για κρατήσεις θέσων & Μειωμένο εισητήριο 8€)                                                        ΑΝΑΦΕΡΟΥΜΕ ΦΕΣΤΙΒΑΛ ΗΛΙΟΥΠΟΛΗΣ	Θέατρο ΦΑΜΠΡΙΚΑ-Μεγ.Αλεξάν21.00δρου 125-Κεραμικός-τηλ 210-3411651, ώρα 21.00
	

Τετάρτη έως Κυριακή	5/3 - 8/4	Θεατρική παράσταση "ΑΣΤΡΟΦΕΓΓΙΑ" Ι.Μ.ΠΑΝΑΓΙΩΤΟΠΟΥΛΟΥ                                                                                       ( τηλ για κρατήσεις θέσεων & μειωμένο εισητήριο 10€)                                               ΑΝΑΦΕΡΟΥΜΕ ΦΕΣΤΙΒΑΛ ΗΛΙΟΥΠΟΛΗΣ Θέατρο ΧΩΡΑ   Αμοργού 20                                    τηλ 210-8673945	Τετ,Κυρ.20.00 - Πέμ,Παρ.21.00  -        Σάβ.18.00,21.00


LOCATION:
END:VEVENT

END:VCALENDAR
