BEGIN:VCALENDAR
VERSION:2.0
PRODID:-//hacksw/handcal//NONSGML v1.0//EN
BEGIN:VEVENT
UID:17ba04b528dafed626ec6aa20ecbc672
DTSTAMP:20260421T023829Z

DTSTART:20170310T190000
DTEND:20170310T190000
SUMMARY:Ομαδική Έκθεση Ζωγραφικής και Αγιογραφίας - Ένωση Καλλιτεχνών & Λογοτεχνών Ηλιούπολης «το Εργαστήρι»
DESCRIPTION:ΠΡΟΣΚΛΗΣΗ
Η Ένωση Καλλιτεχνών & Λογοτεχνών Ηλιούπολης
«το Εργαστήρι»
 
Σας προσκαλεί στα Εγκαίνια της Ομαδικής Έκθεσης Ζωγραφικής και Αγιογραφίας, που οργανώνεται από την Ένωση Καλλιτεχνών & Λογοτεχνών Ηλιούπολης, σε συνεργασία με τον Όμιλο για την ΟΥΝΕΣΚΟ Πειραιώς και Νήσων, στο
 
ΜΟΥΣΕΙΟ ΕΘΝΙΚΗΣ ΑΝΤΙΣΤΑΣΗΣ ΗΛΙΟΥΠΟΛΗΣ
Την Παρασκευή, 10-Μαρ-2017 και ώρα 19:00
 
   ο Πρόεδρος                                    ο Γεν. Γραμματέας
Στέλιος Μαρούλης             Αργύρης Ζαχαρόπουλος

LOCATION:
END:VEVENT

END:VCALENDAR
