BEGIN:VCALENDAR
VERSION:2.0
PRODID:-//hacksw/handcal//NONSGML v1.0//EN
BEGIN:VEVENT
UID:b723c023c6ed85a71adbc78033b903e3
DTSTAMP:20260420T202612Z

DTSTART:20170312T200000
DTEND:20170312T200000
SUMMARY:Προβολή ταινίας ΣΙΩΠΗΛΟΣ ΜΑΡΤΥΡΑΣ του Δ. Κουτσιαμπασάκου
DESCRIPTION:
H KIΝΗΜΑΤΟΓΡΑΦΙΚΗ ΛΕΣΧΗ ΗΛΙΟΥΠΟΛΗΣ σας προσκαλεί στην εκδήλωσή της

Η «ΦΩΝΗ» ΤΗΣ ΠΑΛΙΑΣ ΦΥΛΑΚΗΣ ΤΡΙΚΑΛΩΝ

ΚΥΡΙΑΚΗ  12/03/2017 (8:00 μμ)

ΣΙΩΠΗΛΟΣ ΜΑΡΤΥΡΑΣ
του Δημήτρη Κουτσιαμπασάκου (ΕΛΛΑΔΑ, 2016, έγχρωμη, 72΄)

Θα ακολουθήσει συζήτηση με εισηγητές τους Δημήτρη Κουτσιαμπασάκο (σκηνοθέτη της ταινίας), Ιωάννη Πούλιο (επιστημονικό συνεργάτη της ταινίας, σύμβουλο πολιτισμικής διαχείρισης) και Κωνσταντίνο Μπλάθρα (κριτικό κινηματογράφου, σκηνοθέτη).
Βραβείο Σκηνοθεσίας και Βραβείο Μουσικής (Βαγγέλης Φάμπας) στο Φεστιβάλ Ελληνικού Ντοκιμαντέρ-Docfest Χαλκίδας

ΣΤΟ ΜΟΥΣΕΙΟ ΕΘΝΙΚΗΣ ΑΝΤΙΣΤΑΣΗΣ
(Μαρ. Αντύπα 134 και Σοφ. Βενιζέλου 100, Ηλιούπολη
Λεωφορείο:
237 Άνω Ηλιούπολη από σταθμό Δάφνη του Μετρό στη στάση Πλατεία Εθνικής Αντίστασης
Τηλ.: 2109941199, 2109914732, 6945405825, E-mail: info@klh.gr,
Ιστοσελίδα: www.klh.gr)       



LOCATION:
END:VEVENT

END:VCALENDAR
