BEGIN:VCALENDAR
VERSION:2.0
PRODID:-//hacksw/handcal//NONSGML v1.0//EN
BEGIN:VEVENT
UID:0d2978aa15b3a08773212d6ed3aba7a2
DTSTAMP:20260420T212201Z

DTSTART:20170308T200000
DTEND:20170308T200000
SUMMARY:Παρουσίαση βιβλίου "Με τα μάτια της αγάπης" του Κων/νου Δέδε
DESCRIPTION:Την Τετάρτη 8 Μαρτίου στις 8:00, στα πλαίσια του φεστιβάλ θα παρουσιαστεί
το βιβλίο του Κων/νου Δέδε “ΜΕ ΤΑ ΜΑΤΙΑ ΤΗΣ ΑΓΑΠΗΣ”
«Ο έρωτας, νέε μου και η λογική μοιάζουν με τον ήλιο και το φεγγάρι. Όταν δύει το ένα, ανατέλλει το άλλο.» 

Ένας αφανής ήρωας του Β’ παγκοσμίου πολέμου εξομολογείται σε έναν νεαρό δημοσιογράφο την ιστορία της ζωής του. 
Μέσα από μια ιστορία αγάπης ξετυλίγονται οι σημαντικότερες πτυχές του πολέμου, το άγχος της επιβίωσης και οι στιγμές όπου οι αποφάσεις αλλάζουν την ζωή των ανθρώπων.
 
«Η ιστορία επαναλαμβάνεται την πρώτη φορά σαν τραγωδία και τη δεύτερη σαν φάρσα. Άρχισα να αντιλαμβάνομαι πλέον ότι όλα όσα με πάθος έγραφα στη φυλλάδα που εργαζόμουν και όλα αυτά για τα οποία με περίσσια εμμονή μάς καθοδηγούσε ο αρχισυντάκτης δεν ήταν τίποτε άλλο παρά κείμενα μιας φάρσας – ενός ελαφριού κωμικού θεατρικού έργου, όπου το αστείο στηριζόταν στη γελοιοποίηση των ατόμων προς διασκέδαση των υπολοίπων. Τη γελοιοποίηση ενός ολόκληρου λαού για τη διασκέδαση ποιων;» 

Πως μπορεί μια ιστορία αγάπης να αλλάξει την ζωή ενός ανθρώπου;

LOCATION:
END:VEVENT

END:VCALENDAR
