BEGIN:VCALENDAR
VERSION:2.0
PRODID:-//hacksw/handcal//NONSGML v1.0//EN
BEGIN:VEVENT
UID:551022a0175141bf52e69e6403625838
DTSTAMP:20260420T213323Z

DTSTART:20170326T203000
DTEND:20170326T203000
SUMMARY:Θεατρική παράσταση "Αγνωστες Ιστορίες του κυρίου Τέννεση Ουίλιαμς" του Αλληλέγγυου Θεάτρου Ηλίου-πόλις"
DESCRIPTION:
LOCATION:
END:VEVENT

END:VCALENDAR
