BEGIN:VCALENDAR
VERSION:2.0
PRODID:-//hacksw/handcal//NONSGML v1.0//EN
BEGIN:VEVENT
UID:626aaf9dbb0acb214a560aa417d04028
DTSTAMP:20260420T215617Z

DTSTART:20170319T203000
DTEND:20170319T203000
SUMMARY:Θεατρική παράσταση "Αγνωστες Ιστορίες του κυρίου Τέννεση Ουίλιαμς" του Αλληλέγγυου Θεάτρου Ηλίου-πόλις"
DESCRIPTION:
LOCATION:
END:VEVENT

END:VCALENDAR
