BEGIN:VCALENDAR
VERSION:2.0
PRODID:-//hacksw/handcal//NONSGML v1.0//EN
BEGIN:VEVENT
UID:80cac40129968ce2bf616b88d1677616
DTSTAMP:20260420T202715Z

DTSTART:20170312T203000
DTEND:20170312T203000
SUMMARY:Θεατρική παράσταση "Αγνωστες Ιστορίες του κυρίου Τέννεση Ουίλιαμς" του Αλληλέγγυου Θεάτρου Ηλίου-πόλις"
DESCRIPTION:
LOCATION:
END:VEVENT

END:VCALENDAR
