BEGIN:VCALENDAR
VERSION:2.0
PRODID:-//hacksw/handcal//NONSGML v1.0//EN
BEGIN:VEVENT
UID:e96b7b6662408157efc0e5331cf022ad
DTSTAMP:20260420T232831Z

DTSTART:20170305T203000
DTEND:20170305T203000
SUMMARY:Θεατρική παράσταση "Αγνωστες Ιστορίες του κυρίου Τέννεση Ουίλιαμς" του Αλληλέγγυου Θεάτρου Ηλίου-πόλις"
DESCRIPTION:Η Επιτροπή Πολιτισμού της Δημοτικής Κίνησης ΗΛΙΟΥ-πόλις, ανθρώπινη πόλη σας προσκαλεί στη θεατρική παράσταση του :

Αλληλέγγυου Θεάτρου Ηλίου-πόλις

Αγνωστες Ιστορίες του κυρίου
Τέννεση Ουίλιαμς

«Το Ροζ Δωμάτιο»
«Γιατί καπνίζεις τόσο πολύ Λίλυ;»
«Ο κύριος Πάρανταϊς»
«Καλοκαίρι  στη λίμνη»

Παραστάσεις 5,  12, 19  και 26  Μαρτίου 2017
Ώρα 20.30

Είσοδος ελεύθερη με ευγενική συνεισφορά τροφίμων για το δίκτυο Αλληλεγγύης  ΗΛΙΟΥ-πόλις.

Ηρώς Κωνταντοπούλου & Ηρακλείτου 1 
Τηλέφωνο κρατήσεων 6937032345 κ. Χαρά Γιωτοπούλου


LOCATION:
END:VEVENT

END:VCALENDAR
