BEGIN:VCALENDAR
VERSION:2.0
PRODID:-//hacksw/handcal//NONSGML v1.0//EN
BEGIN:VEVENT
UID:829be9f485b8d0d9172f131a777aa2af
DTSTAMP:20260420T202851Z

DTSTART:20170305T200000
DTEND:20170305T200000
SUMMARY:Προβολή ταινίας "Ο ΚΥΚΛΟΣ ΤΟΥ ΕΡΩΤΑ" ΤΟΥ ΜΑΞ ΟΦΙΛΣ
DESCRIPTION:
ΚΙΝΗΜΑΤΟΓΡΑΦΙΚΗ ΛΕΣΧΗ ΗΛΙΟΥΠΟΛΗΣ - "Ο ΚΥΚΛΟΣ ΤΟΥ ΕΡΩΤΑ" ΤΟΥ ΜΑΞ ΟΦΙΛΣ - ΚΥΡΙΑΚΗ 5/3/2017, 8:00 μ.μ., ΣΤΟ ΜΟΥΣΕΙΟ ΕΘΝΙΚΗΣ ΑΝΤΙΣΤΑΣΗΣ


ΤΟ ΓΑΪΤΑΝΑΚΙ ΤΗΣ ΕΡΩΤΙΚΗΣ ΕΠΙΘΥΜΙΑΣ
Ο ΚΥΚΛΟΣ ΤΟΥ ΕΡΩΤΑ (LA RONDE) του Μαξ Οφίλς (ΓΑΛΛΙΑ, 1950)


Διασκευή του ομότιτλου θεατρικού έργου του Άρτουρ Σνίτσλερ.
Θα ακολουθήσει συζήτηση με εισηγητές τους Γιάγκο Αντίοχο (κριτικό κινηματογράφου), Νότη Παρασκευόπουλο (σκηνοθέτη, μεταφραστή του έργου) και Νέστορα Πουλάκο (κριτικό κινηματογράφου, εκδότη –Vakxikon.gr).
      ΚΥΡΙΑΚΗ  5/3/2017
στις 8:00 μ.μ.

στο ΜΟΥΣΕΙΟ ΕΘΝΙΚΗΣ ΑΝΤΙΣΤΑΣΗΣ
(Μαρ. Αντύπα 134 και Σοφ. Βενιζέλου 100)
LOCATION:
END:VEVENT

END:VCALENDAR
