BEGIN:VCALENDAR
VERSION:2.0
PRODID:-//hacksw/handcal//NONSGML v1.0//EN
BEGIN:VEVENT
UID:f6f7874dcca20e5f4e0e6750dc557ab4
DTSTAMP:20260421T021544Z

DTSTART:20170227T000000
DTEND:20170227T000000
SUMMARY:ΣΥΛΛΟΓΟΣ ΗΠΕΙΡΩΤΩΝ ΗΛΙΟΥΠΟΛΗΣ - ΚΟΥΛΟΥΜΑ
DESCRIPTION:Το Δ.Σ. του Συλλόγου μας, σας προσκαλεί την Καθαρά Δευτέρα 27/2/2017 να γιορτάσουμε και να διασκεδάσουμε τα παραδοσιακά Κούλουμα στον Προφήτη Ηλία στις 12.00 το πρωί.
Ο Σύλλογος θα προσφέρει νηστίσιμους μεζέδες, κρασί, παραδοσιακή μουσική και χορό από τα χορευτικά του τμήματα, όπως άλλωστε το απαιτεί το έθιμο της ημέρας.

Καλή Σαρακοστή σε όλους!!!

Υ.Γ. Σε περίπτωση κακοκαιρίας, η εκδήλωση θα μεταφερθεί στο Δημοτικό Αναψυκτήριο «Δ. Κιντής».
LOCATION:Ηλιούπολη, Ελλάδα
END:VEVENT

END:VCALENDAR
