BEGIN:VCALENDAR
VERSION:2.0
PRODID:-//hacksw/handcal//NONSGML v1.0//EN
BEGIN:VEVENT
UID:7baf3aa0718d353eb1395bb834e8a7c6
DTSTAMP:20260421T021540Z

DTSTART:20170222T193000
DTEND:20170222T193000
SUMMARY:Η ξενιτιά στο Δημοτικό και Λαϊκό Τραγούδι
DESCRIPTION:Η εκδήλωση είναι συνέχεια προηγούμενης εκδήλωσης του Συλλόγου μας που αφορούσε την ξενιτιά στην Ήπειρο. Επεκτείνουμε, λοιπόν, το θέμα μας, που αφορά την ξενιτιά στην Ελλάδα.

Κείμενα - Επιμέλεια: Χρ. Τούμπουρος
 Συμμετέχει το "Λαϊκό Σύνολο" και η χορωδία του Συλλόγου μας.
LOCATION:Ηλιούπολη, Ελλάδα
END:VEVENT

END:VCALENDAR
