BEGIN:VCALENDAR
VERSION:2.0
PRODID:-//hacksw/handcal//NONSGML v1.0//EN
BEGIN:VEVENT
UID:ed6f500ea4399bdf785cd0738ed09d29
DTSTAMP:20260421T035118Z

DTSTART:20170217T203000
DTEND:20170217T223000
SUMMARY:Μια βραδιά για τον Νίκο Καζαντζάκη στο Απρόβλεπτο
DESCRIPTION:Το βιβλιοπωλείο Απρόβλεπτο και οι εκδόσεις Καστανιώτη
σας προσκαλούν στην παρουσίαση του νέου βιβλίου 
του Κώστα Αρκουδέα "Το χαμένο νόμπελ μια αληθινή ιστορία"
την Παρασκευή 17 Φεβρουαρίου 2017 και ώρα 8:30 μ.μ.

Ο συγγραφέας θα συνομιλήσει με το κοινό και θα αναφερθεί σε όσα διαπράχτηκαν στο παρασκήνιο, στερώντας από τον Νίκο Καζαντζάκη το Νόμπελ Λογοτεχνίας.

Την άνοιξη του 1947, ενώ η Ελλάδα σπαράσσεται από τον Εμφύλιο, ο Νίκος Καζαντζάκης θέτει από κοινού υποψηφιότητα με τον Άγγελο Σικελιανό για το Νόμπελ λογοτεχνίας. Η υποψηφιότητά του συσπειρώνει το συντηρητικό κατεστημένο της εποχής, που βλέπει στο πρόσωπο του Κρητικού συγγραφέα έναν από τους μεγαλύτερούς του εχθρούς. Εναντίον του επιστρατεύονται όλα τα μέσα, θεμιτά και αθέμιτα, προκειμένου να αποφευχθεί η βράβευσή του. Από την άλλη, ο Καζαντζάκης προσπαθεί μόνος του για μια δεκαετία να κατακτήσει το Νόμπελ, αντιμετωπίζοντας θεούς και δαίμονες. 

Προσωπικές μαρτυρίες, επιστολές, άρθρα, αποσπάσματα από βιβλία και έγγραφα-ντοκουμέντα συνθέτουν ένα πολύχρωμο παζλ, που θα μπορούσε να αποτελεί ένα ευφάνταστο μυθιστόρημα, αλλά δεν είναι παρά η ιστορική αλήθεια. Στο βιβλίο αυτό συναντάμε προσωπικότητες όπως ο Παλαμάς, ο Καβάφης, ο Σεφέρης, ο Ελύτης και ο Ρίτσος, αλλά και διάσημους νομπελίστες όπως ο Έσσε, ο Ζιντ, ο Έλιοτ, ο Χέμινγουεϊ και ο Καμύ. Πάνω απ’ όλα, όμως, γινόμαστε μάρτυρες της οδύσσειας του πνευματικού και πολιτικού κόσμου της Ελλάδας στον 20ό αιώνα, που διήλθε μέσα από τις συμπληγάδες των αντιθέσεων και διαμόρφωσε τις συνθήκες των ημερών μας.

LOCATION:Ρήγα Φεραίου 25, Ηλιούπολη 163 43, Ελλάδα
END:VEVENT

END:VCALENDAR
