BEGIN:VCALENDAR
VERSION:2.0
PRODID:-//hacksw/handcal//NONSGML v1.0//EN
BEGIN:VEVENT
UID:8145e5df61d0887483e3081bd24bff5f
DTSTAMP:20260420T202435Z

DTSTART:20170212T200000
DTEND:20170212T200000
SUMMARY:Προβολή ταινίας ΛΕΥΚΑΔΙΟΣ ΧΕΡΝ – Ο ΕΛΛΗΝΑΣ ΠΟΥ ΑΝΑΔΕΙΧΘΗΚΕ ΣΕ ΕΘΝΙΚΟ ΣΥΓΓΡΑΦΕΑ ΤΗΣ ΙΑΠΩΝΙΑΣ του Γιώργου Πετρίτση
DESCRIPTION:Η Κινηματογραφική Λέσχη Ηλιούπολης σας προσκαλεί την Κυριακή 12/02/2017 στις 8:00 μ.μ στην εκδήλωση της «ΛΕΥΚΑΔΙΟΣ ΧΕΡΝ (ΛΕΥΚΑΔΑ, 1850 – ΤΟΚΙΟ, 1904): ΜΙΑ ΟΙΚΟΥΜΕΝΙΚΗ ΠΝΕΥΜΑΤΙΚΗ ΜΟΡΦΗ» όπου θα προβληθεί η ταινία ΛΕΥΚΑΔΙΟΣ ΧΕΡΝ – Ο ΕΛΛΗΝΑΣ ΠΟΥ ΑΝΑΔΕΙΧΘΗΚΕ ΣΕ ΕΘΝΙΚΟ ΣΥΓΓΡΑΦΕΑ ΤΗΣ ΙΑΠΩΝΙΑΣ του Γιώργου Πετρίτση  (ΕΛΛΑΔΑ, 2007, έγχρωμη, 53΄).
Πριν την προβολή της ταινίας θα κάνει εισαγωγή στη ζωή και στο έργο του Λευκάδιου Χερν η σκιτσογράφος και μεταφράστρια του έργου του Τέτη Σώλου.
Μετά την προβολή της ταινίας θα ακολουθήσει συζήτηση.
Η Κινηματογραφική Λέσχη Ηλιούπολης ευχαριστεί το Αρχείο της Ελληνικής Ραδιοφωνίας Τηλεόρασης (ΕΡΤ) Α.Ε. για την παραχώρηση της ταινίας.

ΚΥΡΙΑΚΗ 12/02/2017 στις 8:00 μ.μ.
ΕΙΣΟΔΟΣ ΕΛΕΥΘΕΡΗ
στο ΜΟΥΣΕΙΟ ΕΘΝΙΚΗΣ ΑΝΤΙΣΤΑΣΗΣ (Μαρ. Αντύπα 134 και Σοφ. Βενιζέλου)

Λεωφορείο:
237 Άνω Ηλιούπολη από σταθμό Δάφνη του Μετρό στη στάση Πλατεία Εθνικής Αντίστασης

Κινηματογραφική Λέσχη Ηλιούπολης
(Μέλος της Ομοσπονδίας Κινηματογραφικών Λεσχών Ελλάδας - Ο.Κ.Λ.Ε.)
Ηρώς Κωνσταντοπούλου 59-61, Τ.Κ.: 16346, Ηλιούπολη
Τηλ.: 210 9937870, 210 9941199, 210 9914732, 6945405825
ιστοσελίδα: www.klh.gr, e-mail: info@klh.gr
LOCATION:
END:VEVENT

END:VCALENDAR
