BEGIN:VCALENDAR
VERSION:2.0
PRODID:-//hacksw/handcal//NONSGML v1.0//EN
BEGIN:VEVENT
UID:42e06633553035ca6496da29cd8d981b
DTSTAMP:20260419T123615Z

DTSTART:20170212T113000
DTEND:20170212T130000
SUMMARY:Παιδική εκδήλωση στο Απρόβλεπτο
DESCRIPTION:Το βιβλιοπωλείο Απρόβλεπτο και οι εκδόσεις Μεταίχμιο 
προσκαλούν τους μικρούς τους φίλους
σε εκδήλωση με αφορμή το νέο βιβλίο της Ελένης Ανδρεάδη
"Πράκτορες του πλανήτη - η εκδίκηση του Πουφ"
την Κυριακή 12 Φεβρουαρίου 2017 στις 11:30 π.μ.

Για παιδιά από 6 χρονών


Οι Πράκτορες του Πλανήτη είναι μια μη-κερδοσκοπική περιβαλλοντική οργάνωση που ιδρύθηκε το 2009, με στόχο τη δημιουργία ενός αειφόρου μέλλοντος μέσα από την εκπαίδευση και δράση των παιδιών.Με πρωτοποριακό εκπαιδευτικό υλικό και δραστηριότητες, στοχεύει να δώσει στα παιδιά τα κατάλληλα εφόδια ώστε να εξελιχθούν σε ευσυνείδητους πολίτες οι οποίοι μπορούν να πάρουν πρωτοβουλίες, αποφάσεις, και να λάβουν δράση για να εξασφαλίσουν ένα καλύτερο συλλογικό μέλλον.

Η ομάδα δραστηριοποιείται σε σχολεία αλλά και σε εκδηλώσεις σε όλη τη χώρα καλώντας τα παιδιά να γίνουν Πράκτορες του Πλανήτη, και να φέρουν σε πέρας άκρως απόρρητες αποστολές, με στόχο την προστασία του πλανήτη.


Έχεις μονάχα 24 ώρες να βρεις τα τρία υπερόπλα και να σώσεις τον κόσμο. Δέχεσαι την επικίνδυνη αυτή μυστική αποστολή; Αν όχι, ΑΦΗΣΕ ΤΟ ΒΙΒΛΙΟ ΑΥΤΟ ΚΑΤΩ ΑΜΕΣΩΣ και απομακρύνσου σιγά σιγά, παριστάνοντας το αδιάφορο παιδί. Διότι, αν κατά λάθος το ανοίξεις, θα βρεις άκρως απόρρητα στοιχεία σχετικά με το ύπουλο πλάνο του Πουφ να κάνει τον κόσμο καμίνι! Μπορεί και να σε φάει ένα τζάγκουαρ στον Αμαζόνιο! Ή να τσουγκρίσεις το κεφάλι σου πάνω σε μία αγελάδα! ΜΗΝ ΑΝΟΙΞΕΙΣ ΑΥΤΟ ΤΟ ΒΙΒΛΙΟ, σου λέω!

Βιβλιοπωλείο Απρόβλεπτο, Ρήγα Φεραίου 25, Ηλιούπολη, τηλ. 2109940110

LOCATION:Ρήγα Φεραίου 25, Ηλιούπολη 163 43, Ελλάδα
END:VEVENT

END:VCALENDAR
