BEGIN:VCALENDAR
VERSION:2.0
PRODID:-//hacksw/handcal//NONSGML v1.0//EN
BEGIN:VEVENT
UID:4ab45099c9c91c8d1a0aa4d3651a594a
DTSTAMP:20260420T180658Z

DTSTART:20170215T170000
DTEND:20170215T170000
SUMMARY:Εκδήλωση  για  το Ε.Π.Α.Λ  Ηκιούπολης
DESCRIPTION:Το Επαγγελματικό Λύκειο και το Εργαστηριακό Κέντρο της Ηλιούπολης διοργανώνουν εκδήλωση με θέμα: ¨Ποιες εκπαιδευτικές και επαγγελματικές διεξόδους μπορεί να προσφέρει το ΕΠΑ.Λ στους μαθητές¨ Τετάρτη 15 Φεβρουαρίου 2017 και ώρα 5:00 μ.μ στο αμφιθέατρο του ΕΠΑ.Λ Ηλιούπολης Λ. Βουλιαγμένης 521-523 ΟΜΙΛΗΤΕΣ 
Ψίνα Ιωάννα, Διευθύντρια της Διεύθυνσης Δ.Ε Α' Αθήνας 
Καραγιάννης Στυλιανός Σχολικός Σύμβουλος Δ.Ε. 
Κονταξής Αθανάσιος, Σχολικός Σύμβουλος Δ.Ε. 
Μετά το πέρας των ομιλιών θα ακολουθήσει ξενάγηση στους χώρους των εργαστηρίων του Ε.Κ.

Πληροφορίες:  Γραφείο Δ/ντη 3ου Ε.Κ 2109952654
LOCATION:Παρ. Λεωφ. Βουλιαγμένης 521, Ηλιούπολη 163 41, Ελλάδα
END:VEVENT

END:VCALENDAR
