BEGIN:VCALENDAR
VERSION:2.0
PRODID:-//hacksw/handcal//NONSGML v1.0//EN
BEGIN:VEVENT
UID:a38888f5a19646658161b26c5f8e5d84
DTSTAMP:20260421T022147Z

DTSTART:20170407T190000
DTEND:20170408T190000
SUMMARY:''Περί  Έρωτος - Τέχνης  Θεάτρου ''
DESCRIPTION:Ο πολιτιστικός Σύλλογος Ηλιούπολης ΤΕΧΝΗΣ ΘΕΑΤΡΟΥ σας προσκαλεί στην θεατρική παράσταση ''ΠΕΡΙ... ΕΡΩΤΟΣ'', απο την ομάδα ενηλίκων - τμήμα Δευτέρας, σε διδασκαλία και σκηνοθεσία Αργυρώς Δημακέα. Την Παρασκευή 7 και το Σάββατο 8 Απριλίου 2017 και ώρα 7:00 το απόγευμα, στο Δημοτικό θέατρο της Ηλιούπολης (ισόγειο Δημαρχείου).


ΠΑΙΡΝΟΥΝ ΜΕΡΟΣ:
Σάκης Δημητρόπουλος
Άννα Πατρώνη
Ευφροσύνη Πάτρα
Θοδωρής Φώσκολος
Μαρκέλλα Μάγκου
Κατερίνα Φωτιάδου
Μηνάς Κυπρής
Ειρήνη Μπλίκα
Χαρά Καραφωτιά
Έυη Μουτσοπούλου


Ένα παιχνίδι σπονδυλωτών κειμένων, γεμάτο πάθος ξετυλίγεται μπροστά σας.. στιγμές έρωτα απο τοΠαρίσι, τη Μόσχα έως και την Ελλάδα σας ταξιδεύουν σε άλλες εποχές μέχρι και το σήμερα! Η Πάλη των δύο φύλλων... ποιος θα υπερισχύσει; ... ποιος θα αντέξει..; Γυναίκα και άνδρας.... άρρεν και θήλυ.... ένα κουβάρι μαγικό...!

Από τόσον χειμώνα κι από τόσους βοριάδες, μ' ακούς
Να τινάξει λουλούδι, μόνο εμείς, μ' ακούς
Μες στη μέση της θάλασσας

Από μόνο το θέλημα της αγάπης, μ' ακούς
Ανεβάσαμε ολόκληρο νησί, μ' ακούς
Με σπηλιές και με κάβους κι ανθισμένους γκρεμούς
Άκου, άκου
Ποιος μιλεί στα νερά και ποιος κλαίει -ακούς;
Ποιος γυρεύει τον άλλο, ποιος φωνάζει -ακούς;
Είμ' εγώ που φωνάζω κι είμ' εγώ που κλαίω, μ' ακούς
Σ' αγαπώ, σ' αγαπώ, μ' ακούς.

LOCATION:Leoforos Sofokli Venizelou ke Protopapa, Ilioupoli 163 42, Ελλάδα
END:VEVENT

END:VCALENDAR
