BEGIN:VCALENDAR
VERSION:2.0
PRODID:-//hacksw/handcal//NONSGML v1.0//EN
BEGIN:VEVENT
UID:12cde02e9398eb992de5cc133d2a3f62
DTSTAMP:20260420T202453Z

DTSTART:20170205T200000
DTEND:20170205T200000
SUMMARY:Προβολή ταινείας "…ΕΙ ΕΧΕΙΣ ΚΑΡΔΙΑΝ, ΔΥΝΑΣΑΙ ΣΩΘΗΝΑΙ… " του Νίκου Αναγνωστόπουλου 
DESCRIPTION:H KIΝΗΜΑΤΟΓΡΑΦΙΚΗ ΛΕΣΧΗ ΗΛΙΟΥΠΟΛΗΣ σας προσκαλεί στην εκδήλωσή της
ΑΓΙΟΝ ΟΡΟΣ: ΕΚΦΡΑΣΗ ΕΝΟΤΗΤΑΣ ΚΑΙ ΟΙΚΟΥΜΕΝΙΚΟΤΗΤΑΣ
 
ΚΥΡΙΑΚΗ  05/02/2017 (8:00 μμ)
Θα προβληθεί η ταινία
…ΕΙ ΕΧΕΙΣ ΚΑΡΔΙΑΝ, ΔΥΝΑΣΑΙ ΣΩΘΗΝΑΙ…
του Νίκου Αναγνωστόπουλου (ΕΛΛΑΔΑ, 2009, έγχρωμη, 55΄)

Θα χαιρετίσει ο Καθηγούμενος της Ιεράς Μονής Εσφιγμένου Αρχιμανδρίτης Βαρθολομαίος.

Θα ακολουθήσει συζήτηση με εισηγητές τους Νίκο Αναγνωστόπουλο (σκηνοθέτη της ταινίας), Γέροντα Νικόδημο Λαυρεώτη (Αντιπρόσωπο της Ιεράς Μονής Αγίας Λαύρας στην Ιερά Κοινότητα), Κρίτωνα Χρυσοχοΐδη (ιστορικό, βυζαντινολόγο, Ομότιμο Διευθυντή του Εθνικού Ιδρύματος Ερευνών) και Πέτρο Βασιλειάδη (Καθηγητή Θεολογίας του Αριστοτελείου Πανεπιστημίου Θεσσαλονίκης).

ΣΤΟ ΜΟΥΣΕΙΟ ΕΘΝΙΚΗΣ ΑΝΤΙΣΤΑΣΗΣ
(Μαρ. Αντύπα 134 και Σοφ. Βενιζέλου 100, Ηλιούπολη
Λεωφορείο:
237 Άνω Ηλιούπολη από σταθμό Δάφνη του Μετρό στη στάση Πλατεία Εθνικής Αντίστασης
Τηλ.: 2109941199, 2109914732, 6945405825, E-mail: info@klh.gr,
Ιστοσελίδα: www.klh.gr)	

LOCATION:
END:VEVENT

END:VCALENDAR
