BEGIN:VCALENDAR
VERSION:2.0
PRODID:-//hacksw/handcal//NONSGML v1.0//EN
BEGIN:VEVENT
UID:2813adf642af9391e3feac6b372fa782
DTSTAMP:20260421T021640Z

DTSTART:20170211T200000
DTEND:20170211T200000
SUMMARY:Στις "Μουσικές Διαδρομές" ο σολίστας τσέλου ΜΙΧΑΛΗΣ ΧΟΪΠΕΛ
DESCRIPTION:Φίλοι και φίλες

Με μεγάλη χαρά σας ενημερώνουμε οτι, συνεχίζοντας τις Μουσικές Διαδρομές ,
που ξεκινήσαμε στη Δημοτική Κίνηση " ΗΛΙΟΥ-πόλις, ανθρώπινη  πόλη"
θα έχουμε την τιμή να σας παρουσιάσουμε τον διεθνούς φήμης σολίστ τσέλου
 ΜΙΧΑΛΗ ΧΟΪΠΕΛ
το Σάββατο 11 Φεβρουαρίου στις 8,00 το βράδυ , στο Δημοτικό Ωδείο Ηλιούπολης, Θ.Λουκίδου & Ηρώς Κωνσταντοπούλου .

Η είσοδος είναι ελεύθερη , με ευγενική συνεισφορά τροφίμων για το
 ΔΙΚΤΥΟ ΑΛΛΗΛΕΓΓΥΗΣ ΗΛΙΟΥ-ΠΟΛΙΣ.


LOCATION:
END:VEVENT

END:VCALENDAR
