BEGIN:VCALENDAR
VERSION:2.0
PRODID:-//hacksw/handcal//NONSGML v1.0//EN
BEGIN:VEVENT
UID:120fc46249623d168e5364d1717f1fca
DTSTAMP:20260420T232842Z

DTSTART:20170205T110000
DTEND:20170205T123000
SUMMARY:ΕΘΕΛΟΝΤΙΚΟΣ  ΚΑΘΑΡΙΣΜΟΣ
DESCRIPTION:Με  αφορμή  το  παράπονο  της   κυρίας   Σπυριδούλας  Χρήστου  προς  τον  κύριο δήμαρχο  στο MEV  ,  για  την έλλειψη  καθαριότητας  του  πάρκου  Ναυαρίνου  , προσκαλώ  όλους  τους  ηλιουπολίτες  και  ηλιουπολίτησες ,  φορείς  της  πόλης  μας  ,  σύλλογοι της  πόλης μας  ,  σχολεία   της  πόλης  μας   να   έρθουν  να καθαρίσουν  εθελοντικά  το  πάρκο  Ναυαρίνου   . Η

Η  συνάντηση  θα  γίνει  στο  πάρκο  Ναυαρίνου  στην  κεντρική  είσοδο  του  πάρκου  ( Μαρίνου Αντύπα ) στις   5 Φεβρουαρίου  2017  και  ώρα  11:00 το πρωί  έως την  12:00  το  μεσημέρι 

  Μαζί σας  να φέρετε  τα  απαραίτητα  εργαλεία  καθαριότητας  και ότι   άλλο εσείς  νομίζεται  .


  ΓΙΑΤΙ Η  ΚΑΘΑΡΙΟΤΗΤΑ  ΤΗΣ ΠΟΛΗΣ ΜΑΣ  ΕΙΝΑΙ  ΑΡΧΟΝΤΙΑ  ΚΑΙ  ΠΟΛΙΤΙΣΜΟΣ  ΠΡΟΣ  ΟΛΟΥΣ ΜΑΣ .
 
LOCATION:Μαρίνου Αντύπα & 163 46, Navarinou 1, Ilioupoli 163 45, Ελλάδα
END:VEVENT

END:VCALENDAR
