BEGIN:VCALENDAR
VERSION:2.0
PRODID:-//hacksw/handcal//NONSGML v1.0//EN
BEGIN:VEVENT
UID:dd2f33946d40c5a0ec9baec2b16b7631
DTSTAMP:20260419T132749Z

DTSTART:20170126T200000
DTEND:20170126T200000
SUMMARY:«Μαλλί με μαλλί», από το Θεατρικό Εργαστήρι του Δήμου Ηλιούπολης
DESCRIPTION:ο Θεατρικό Εργαστήρι του Δήμου Ηλιούπολης σας προσκαλεί στην παράσταση «Μαλλί με μαλλί»,

την Παρασκευή 27 Ιανουαρίου 2017, στις 8 μ.μ. στο Θέατρο του Δημαρχιακού Μεγάρου (Σοφοκλή Βενιζέλου & Κουντουριώτη).

Η παράσταση βασίζεται σε κείμενα από τα έργα του Αρκά «Μαλλί με μαλλί» και «Ο χειρότερος φίλος του ανθρώπου», όπου παρεμβάλλονται αυτοσχεδιασμοί και στοιχεία παντομίμας.

Τα μέλη του Εργαστηρίου θα παρουσιάσουν «επί σκηνής» ένα δείγμα των τεχνικών υποκριτικής, κινησιολογίας και δραματοποίησης, που διδάσκονται στο Θεατρικό Εργαστήρι.

Σκοπός του Εργαστηρίου είναι να προσφέρει την ευκαιρία στους συμμετέχοντες για επικοινωνία, παιχνίδι κι αυτοέκφραση, δουλεύοντας με τη φαντασία, το σώμα και τη φωνή.

Διδασκαλία-Σκηνοθεσία: Μαρία Μπιτσακάκη, θεατρολόγος

Συμμετέχουν με αλφαβητική σειρά:

Ανδριτσάκης Παναγιώτης
Βασιλάκη Κατερίνα
Βασδέκη Ελβίρα
Καππή Αναστασία
Κοντοδήμα Εύη
Κοτζιά Σοφία
Κράλογλου Δημήτρης
Λιαρμακοπούλου Ευαγγελία
Μουτουσιάδη Χρύσα
Πανοπούλου Ντίνα
Παπασταύρου Γιάννα

Ευχαριστούμε θερμά τον Αρκά, που μας έδωσε την άδεια να χρησιμοποιήσουμε κείμενα από τις συλλογές του.

Ευχαριστούμε για την πολύτιμη βοήθειά τους το "Κομμωτήριο Κουρέτση Χριστίνα" (σκηνικά) και τις κυρίες Κατερίνα Κοκκινοπουλάκη (σκηνικά) και Χριστίνα Ματθαίου (μακιγιάζ).

Είσοδος ελεύθερη
LOCATION:
END:VEVENT

END:VCALENDAR
