BEGIN:VCALENDAR
VERSION:2.0
PRODID:-//hacksw/handcal//NONSGML v1.0//EN
BEGIN:VEVENT
UID:9533d0154a540650923ddb08a8b14cdb
DTSTAMP:20260420T202436Z

DTSTART:20170122T200000
DTEND:20170122T200000
SUMMARY:ΠΡΟΒΟΛΗ ΤΑΙΝΙΑΣ "UNDERDOG" 
DESCRIPTION:ΚΙΝΗΜΑΤΟΓΡΑΦΙΚΗ ΛΕΣΧΗ ΗΛΙΟΥΠΟΛΗΣ - ΣΕ ΠΡΩΤΗ ΠΡΟΒΟΛΗ ΣΤΗΝ ΕΛΛΑΔΑ ΔΥΟ ΤΑΙΝΙΕΣ ΤΟΥ ΣΥΓΧΡΟΝΟΥ ΣΟΥΗΔΙΚΟΥ ΚΙΝΗΜΑΤΟΓΡΑΦΟΥ - "UNDERDOG" - ΚΥΡΙΑΚΗ 22//1/2017, 8:00 μ.μ.., ΣΤΟ ΜΟΥΣΕΙΟ ΕΘΝΙΚΗΣ ΑΝΤΙΣΤΑΣΗΣ
LOCATION:
END:VEVENT

END:VCALENDAR
