BEGIN:VCALENDAR
VERSION:2.0
PRODID:-//hacksw/handcal//NONSGML v1.0//EN
BEGIN:VEVENT
UID:9b51f2561f2bab4bb51a0c9d5548a7ab
DTSTAMP:20260419T123816Z

DTSTART:20170122T190000
DTEND:20170122T190000
SUMMARY:Κοπή Πρωτοχρονιάτικης πίτας 2017 της Δημοτικής Κϊνησης ΗΛΙΟΥ-πόλις, ανθρώπινη πόλη
DESCRIPTION:Σας προσκαλούμε στην εκδήλωση για την κοπή της Πρωτοχρονιάτικης πίτας της Κίνησής μας, την 22α Ιανουαρίου και ώρα 19:00 στα γραφεία της Κίνησης στην Ηρακλείτου 1 & Ηρώς Κωνσταντοπούλου, Κάτω Ηλιούπολη.
LOCATION:
END:VEVENT

END:VCALENDAR
