BEGIN:VCALENDAR
VERSION:2.0
PRODID:-//hacksw/handcal//NONSGML v1.0//EN
BEGIN:VEVENT
UID:0115cea238b1882881ac978e1ce3832b
DTSTAMP:20260420T202449Z

DTSTART:20170115T200000
DTEND:20170115T200000
SUMMARY:Προβολή ταινίας Η ΝΕΑΡΗ ΣΟΦΙ ΜΠΕΛ (UNGA SOPHIE BELL)
DESCRIPTION:ΣΕ ΠΡΩΤΗ ΠΡΟΒΟΛΗ ΣΤΗΝ ΕΛΛΑΔΑ
ΔΥΟ ΤΑΙΝΙΕΣ ΤΟΥ ΣΥΓΧΡΟΝΟΥ ΣΟΥΗΔΙΚΟΥ ΚΙΝΗΜΑΤΟΓΡΑΦΟΥ

·         ΚΥΡΙΑΚΗ  15/01/2017

Η ΝΕΑΡΗ ΣΟΦΙ ΜΠΕΛ (UNGA SOPHIE BELL)
της Αμάντα Άντολφσον  (ΣΟΥΗΔΙΑ, 2014, έγχρωμη, 84΄)

Θα χαιρετίσει η Πρέσβης της Σουηδίας στην Ελλάδα κ. Charlotte Wrangberg.

Θα ακολουθήσει συζήτηση με εισηγήτρια την Ιφιγένεια Καλαντζή (θεωρητικό και κριτικό κινηματογράφου).

Ø  Σε συνεργασία με την Πρεσβεία της Σουηδίας, το Σουηδικό Ινστιτούτο Αθηνών (SIA), το Σουηδικό Ινστιτούτο Kινηματογράφου (SFI), το Σουηδικό Ινστιτούτο  (SI) και την Ομοσπονδία Κινηματογραφικών Λεσχών Ελλάδας (ΟΚΛΕ).

LOCATION:
END:VEVENT

END:VCALENDAR
