BEGIN:VCALENDAR
VERSION:2.0
PRODID:-//hacksw/handcal//NONSGML v1.0//EN
BEGIN:VEVENT
UID:e65196f81197b3746ed639dbab9b3f80
DTSTAMP:20260420T232826Z

DTSTART:20170122T180000
DTEND:20170122T180000
SUMMARY:ΚΟΠΗ ΠΡΩΤΟΧΡΟΝΙΑΤΙΚΗΣ ΠΙΤΑΣ ΣΥΛΛΟΓΟΥ ΛΕΥΚΑΔΙΩΝ 
DESCRIPTION:ΣΥΛΛΟΓΟΣ ΛΕΥΚΑΔΙΩΝ ΗΛΙΟΥΠΟΛΗΣ Ηλιούπολη 09-01-2017
ΚΑΙ ΓΥΡΩ ΔΗΜΩΝ « Η ΦΑΝΕΡΩΜΕΝΗ»
ΕΘΝΑΡΧΟΥ ΜΑΚΑΡΙΟΥ – ΑΘΗΝΟΔΩΡΟΥ
& ΙΩΝΟΣ Κ.ΗΛΙΟΥΠΟΛΗ ΤΚ16341
ΤΗΛ ΕΠΙΚ.6944256103
www.silfa.gr
Email:info@silfa.gr
Email:evaggelosgeorgakis@gmail.com

ΠΡΟΣΚΛΗΣΗ
Το ΔΣ του Συλλόγου Λευκαδίων Ηλιούπολης και γύρω Δήμων ΄΄ Η ΦΑΝΕΡΩΜΕΝΗ΄΄ σας προσκαλεί στην καθιερωμένη κοπή της πρωτοχρονιάτικης λαδόπιτας την Κυριακή 22 Ιανουαρίου 2017 και ώρα 18:00, που θα πραγματοποιηθεί στο ΄΄Λευκαδίτικο Σπίτι΄΄, Εθνάρχου Μακαρίου, Αθηνοδώρου και Ιωνος στην Κάτω Ηλιούπολη.
Σας περιμένουμε όλους να ανταλλάξουμε ευχές για το νέο έτος, σε ένα ζεστό οικογενειακό, λευκαδίτικο συναπάντημα

Ο Πρόεδρος Η Γεν. Γραμματέας
Ευάγγελος Γεωργάκης Ελευθερία Μεσσήνη-Φραγκούλη

LOCATION:
END:VEVENT

END:VCALENDAR
