BEGIN:VCALENDAR
VERSION:2.0
PRODID:-//hacksw/handcal//NONSGML v1.0//EN
BEGIN:VEVENT
UID:648cee9b77e9c0a01ab567dede0e0134
DTSTAMP:20260421T021858Z

DTSTART:20170108T211500
DTEND:20170108T211500
SUMMARY: " Μουσικές Διαδρομές σε ...ροκ μονοπάτια " Oι CADILLAC DREAMERS στην ΗΛΙΟΥ-πόλις, αθρώπινη πόλη
DESCRIPTION:Φίλοι και φίλες,
Η Επιτροπή Πολιτισμού της Δημοτικής Κίνησης "ΗΛΙΟΥ-πόλις,ανθρώπινη πόλη " , σας εύχεται Χρόνια Πολλά και Ευτυχισμένο το Νέο Ετος!
...και επειδή ο καινούργιος χρόνος θα έρθει πιό ευχάριστα με μουσική, ας τον υποδεχτούμε
 με τις " Μουσικές Διαδρομές σε ...ροκ μονοπάτια ",
 την Κυριακή 8 Ιανουαρίου στις 9.15 μ.μ. 
στα γραφεία μας , Ηρώς Κωνσταντοπούλου & Ηρακλείτου 1.
Oι CADILLAC DREAMERS θα μας περπατήσουν, με γνωστά ροκ και ποπ τραγούδια για ενα δυναμικό ξεκίνημα της νέας χρονιάς.
Η είσοδος όπως πάντα είναι ελεύθερη, με ευγενική συνεισφορά τροφίμων μακράς διαρκείας για την στήριξη του " Δικτύου Αλληλεγγύης ΗΛΙΟΥ-πόλις ".
Σας περιμένουμε

Για την Επιτροπή Πολιτισμού

Βαγγελιώ Παρασκευά - Βαγγέλης Βαροτσάκης


LOCATION:Ηρως Κωνσταντόπουλου και Ηρακλείτου, Ηλιούπολη 163 41, Ελλάδα
END:VEVENT

END:VCALENDAR
