BEGIN:VCALENDAR
VERSION:2.0
PRODID:-//hacksw/handcal//NONSGML v1.0//EN
BEGIN:VEVENT
UID:11b2484a7476a9ee4f552c5ebe6e858b
DTSTAMP:20260420T232959Z

DTSTART:20170115T000000
DTEND:20170115T000000
SUMMARY:ΜΙΑ ΔΙΑΦΟΡΕΤΙΚΗ  ΑΓΟΡΑ  ΣΤΗΝ ΠΛΑΤΕΙΑ 
DESCRIPTION:ΦΕΡΤΕ  ΤΑ  ΠΑΛΙΑ  ΣΑΣ ΠΑΛΙΑ  ΣΑΣ ΠΡΑΓΜΑΤΑ  ΚΑΙ  ΠΑΡΤΕ  ΟΤΙ ΑΛΛΟ  ΘΕΛΕΤΕ  ΕΝΤΕΛΩΣ  ΔΩΡΕΑΝ  ΣΤΗΝ ΚΕΝΤΡΙΚΗ ΠΛΑΤΕΙΑ ΗΛΙΟΥΠΟΛΗΣ  ΣΤΙΣ15 -1-2017  ΑΠΟ  ΤΙΣ   8 ΤΟ  ΠΡΩΙ ΕΩΣ  ΤΟ ΒΡΑΔΥ.

   ΣΑΣ  ΠΕΡΙΜΕΝΟΥΜΕ  ΟΛΟΥΣ 
LOCATION:Πλ. Εθ. Αντιστάσεως, Ηλιούπολη, Ελλάδα
END:VEVENT

END:VCALENDAR
