BEGIN:VCALENDAR
VERSION:2.0
PRODID:-//hacksw/handcal//NONSGML v1.0//EN
BEGIN:VEVENT
UID:98e5d85599d488ab37c32b76fb69f1a8
DTSTAMP:20260419T094857Z

DTSTART:20161210T100000
DTEND:20161211T100000
SUMMARY:ΔΙΚΤΥΟ ΑΛΛΗΛΕΓΓΥΗΣ ΗΛΙΟΥ-πόλις, Χριστουγεννιάτικο Bazaar 
DESCRIPTION:Φίλοι και φίλες,
Το ΔΙΚΤΥΟ ΑΛΛΗΛΕΓΓΥΗΣ ΗΛΙΟΥ-πόλις, διοργανώνει Χριστουγεννιάτικο Bazaar , το Σαββατοκύριακο 10 & 11 Δεκεμβρίου ,
ώρες 10.00 π.μ. έως 8.00 μ.μ. στα γραφεία μας , Ηρώς Κωνσταντοπούλου & Ηρακλείτου 1, Ηλιούπολη.

Διακοσμητικά, δώρα, κοσμήματα, αλλά και μαρμελάδες, μέλι, κρέμες προσώπου και σώματος, αιθέρια έλαια , όλα φτιαγμένα με μεράκι,
από τα καλύτερα υλικά , από συμπολίτες μας άνεργους ,που στηρίζονται στις δημιουργίες τους για να βιοποριστούν.

Θα είναι ιδιαίτερη τιμή για μας , αλλά και μεγάλη μας χαρά , να επιλέξετε τα χριστουγεννιάτικα δώρα σας από τους φίλους μας δημιουργούς.

Με εκτίμηση
ΔΙΚΤΥΟ ΑΛΛΗΛΕΓΓΥΗΣ ΗΛΙΟΥ-πόλις
LOCATION:Ηρως Κωνσταντόπουλου και Ηρακλείτου, Ηλιούπολη 163 41, Ελλάδα
END:VEVENT

END:VCALENDAR
