BEGIN:VCALENDAR
VERSION:2.0
PRODID:-//hacksw/handcal//NONSGML v1.0//EN
BEGIN:VEVENT
UID:7be981bc87004389ad234714fa1f2a81
DTSTAMP:20260421T074723Z

DTSTART:20161109T190000
DTEND:20161109T190000
SUMMARY:Λαϊκή Συνέλευση
DESCRIPTION:Η Λαϊκή Επιτροπή Ηλιούπολης σας καλεί σε πλατιά ανοικτή Λαϊκή Συνέλευση την Τετάρτη 9 Νοέμβρη στις 7:οο μμ
Καλούμε Σωματεία, Φορείς και τους απλούς κατοίκους της πόλης μας για να συντονίσουμε τη δράση μας.
Η κατάσταση στην υγεία είναι τραγική. Οι Δημόσιες Μονάδες Υγείας είναι ανεπαρκείς και υποβαθμισμένες. Δεν μπορούν να καλύψουν τις ανάγκες μας, με αποτέλεσμα να ταλαιπωρούμαστε και να εξαναγκαζόμαστε να πληρώνουμε για υπηρεσίες υγείας που έχουμε ανάγκη και δικαιούμαστε.
Η Υγεία δεν είναι εμπόρευμα!!!
Δεν αρκεί να αγανακτούμε.
Δεν θυσιάζουμε την υγεία και τη ζωή μας για τα κέρδη των επιχειρηματικών ομίλων.
Στον αγώνα για την ανάκτηση των απωλειών αλλά και για την διεκδίκηση των σύγχρονων λαϊκών αναγκών, είναι προτεραιότητα η υπεράσπιση της υγείας του λαού.

Σε αυτόν τον δρόμο να αγωνιστούμε μαζί!!!
LOCATION:
END:VEVENT

END:VCALENDAR
